Workbook

Sheet Daten
A1: Datum | B1: Bereich | C1: Kanal | D1: Betrag (EUR)
A2: 46024 | B2: Reparatur | C2: Laden | D2: 103.05
A3: 46025 | B3: Inspektion | C3: Laden | D3: 77.19
A4: 46026 | B4: Zubehör | C4: Laden | D4: 37.48
A5: 46027 | B5: Reparatur | C5: Laden | D5: 117.53
A6: 46028 | B6: Ersatzteile | C6: Laden | D6: 65.25
A7: 46029 | B7: Ersatzteile | C7: Online | D7: 42.65
A8: 46029 | B8: Inspektion | C8: Laden | D8: 60.83
A9: 46029 | B9: Zubehör | C9: Online | D9: 30.24
A10: 46031 | B10: Zubehör | C10: Laden | D10: 27.06
A11: 46031 | B11: Zubehör | C11: Online | D11: 41.27
A12: 46032 | B12: Reparatur | C12: Online | D12: 106.45
A13: 46034 | B13: Inspektion | C13: Laden | D13: 66.66
... A181: 46200 | B181: Reparatur | C181: Laden | D181: 46.56

Sheet Kennzahlen
A1: Beispielarbeit, kein Kundenauftrag - Betrieb und Zahlen sind erfunden.
A3: Monat 2026 | B3: Umsatz | C3: Buchungen | D3: Durchschnittsbon
A4: Jan | B4: 1926.94 | C4: 30 | D4: 64.23
A5: Feb | B5: 2015.43 | C5: 28 | D5: 71.98
A6: Mär | B6: 2032.62 | C6: 34 | D6: 59.78
A7: Apr | B7: 2042.98 | C7: 28 | D7: 72.96
A8: Mai | B8: 2457.63 | C8: 33 | D8: 74.47
A9: Jun | B9: 1853.01 | C9: 27 | D9: 68.63
A11: Gesamt | B11: 12328.61 | C11: 180 | D11: 68.49
A14: Bereich | B14: Umsatz | C14: Anteil
A15: Reparatur | B15: 6672.69 | C15: 0.5412362
A16: Ersatzteile | B16: 2244.23 | C16: 0.18203431
A17: Zubehör | B17: 1057.45 | C17: 0.085772038
A18: Inspektion | B18: 2354.24 | C18: 0.19095746
A20: Anteil Online | B20: 0.22709535

Sheet Formeln
A1: Dieselben Kennzahlen als Formeln (in deutschem Excel: SUMMEWENNS, ZÄHLENWENNS).
A3: Monat 2026 | B3: Umsatz | C3: Buchungen | D3: Durchschnittsbon
A4: Jan | B4: =SUMIFS(Daten!$D$2:$D$181,Daten!$A$2:$A$181,">="&DATE(2026,1,1),Daten!$A$2:$A$181,"<"&DATE(2026,2,1)) | C4: =COUNTIFS(Daten!$A$2:$A$181,">="&DATE(2026,1,1),Daten!$A$2:$A$181,"<"&DATE(2026,2,1)) | D4: =IF(C4=0,0,B4/C4)
A5: Feb | B5: =SUMIFS(Daten!$D$2:$D$181,Daten!$A$2:$A$181,">="&DATE(2026,2,1),Daten!$A$2:$A$181,"<"&DATE(2026,3,1)) | C5: =COUNTIFS(Daten!$A$2:$A$181,">="&DATE(2026,2,1),Daten!$A$2:$A$181,"<"&DATE(2026,3,1)) | D5: =IF(C5=0,0,B5/C5)
A6: Mär | B6: =SUMIFS(Daten!$D$2:$D$181,Daten!$A$2:$A$181,">="&DATE(2026,3,1),Daten!$A$2:$A$181,"<"&DATE(2026,4,1)) | C6: =COUNTIFS(Daten!$A$2:$A$181,">="&DATE(2026,3,1),Daten!$A$2:$A$181,"<"&DATE(2026,4,1)) | D6: =IF(C6=0,0,B6/C6)
A7: Apr | B7: =SUMIFS(Daten!$D$2:$D$181,Daten!$A$2:$A$181,">="&DATE(2026,4,1),Daten!$A$2:$A$181,"<"&DATE(2026,5,1)) | C7: =COUNTIFS(Daten!$A$2:$A$181,">="&DATE(2026,4,1),Daten!$A$2:$A$181,"<"&DATE(2026,5,1)) | D7: =IF(C7=0,0,B7/C7)
A8: Mai | B8: =SUMIFS(Daten!$D$2:$D$181,Daten!$A$2:$A$181,">="&DATE(2026,5,1),Daten!$A$2:$A$181,"<"&DATE(2026,6,1)) | C8: =COUNTIFS(Daten!$A$2:$A$181,">="&DATE(2026,5,1),Daten!$A$2:$A$181,"<"&DATE(2026,6,1)) | D8: =IF(C8=0,0,B8/C8)
A9: Jun | B9: =SUMIFS(Daten!$D$2:$D$181,Daten!$A$2:$A$181,">="&DATE(2026,6,1),Daten!$A$2:$A$181,"<"&DATE(2026,7,1)) | C9: =COUNTIFS(Daten!$A$2:$A$181,">="&DATE(2026,6,1),Daten!$A$2:$A$181,"<"&DATE(2026,7,1)) | D9: =IF(C9=0,0,B9/C9)
A11: Gesamt | B11: =SUM(B4:B9) | C11: =SUM(C4:C9) | D11: =IF(C11=0,0,B11/C11)
