Workbook

Sheet Regeln
A1: Kalkulationsregeln (vom Kunden gepflegt - gelbe Zellen aendern, neue Zeilen INNERHALB der Tabellen einfuegen, damit die Bereiche mitwachsen)
A2: Allgemein | B2: Wert | C2: Einheit | E2: Verlegeart | F2: Verschnitt | G2: Zeitfaktor | I2: Format | J2: Stueck/m2 | K2: Stueck/Paket | L2: Paketpreis EUR | M2: Kleber kg/m2 | N2: Fuge kg/m2 | P2: Schwierigkeit | Q2: Stunden/m2 | S2: Rabatt ab EUR (Material+Lohn) | T2: Rabatt
A3: Stundensatz Fliesenleger | B3: 58.5 | C3: EUR/h | E3: Gerade | F3: 0.05 | G3: 1 | I3: 20x20 | J3: 25 | K3: 25 | L3: 22.75 | M3: 3 | N3: 0.6 | P3: 1 | Q3: 0.75 | S3: 0 | T3: 0
A4: Anfahrt Grundpauschale | B4: 25 | C4: EUR je Auftrag | E4: Halbverband | F4: 0.08 | G4: 1.1 | I4: 30x30 | J4: 11.12 | K4: 11 | L4: 24.6 | M4: 3.5 | N4: 0.5 | P4: 2 | Q4: 0.95 | S4: 2500 | T4: 0.02
A5: Anfahrt je km (hin und zurueck) | B5: 0.6 | C5: EUR/km | E5: Diagonal | F5: 0.12 | G5: 1.25 | I5: 30x60 | J5: 5.56 | K5: 8 | L5: 41.9 | M5: 4 | N5: 0.4 | P5: 3 | Q5: 1.3 | S5: 5000 | T5: 0.03
A6: Kleinmenge unter | B6: 10 | C6: m2 Auftragsflaeche | E6: Fischgrat | F6: 0.15 | G6: 1.45 | I6: 60x60 | J6: 2.78 | K6: 4 | L6: 52.8 | M6: 5 | N6: 0.3 | S6: 10000 | T6: 0.05
A7: Kleinmengenzuschlag | B7: 65 | C7: EUR je Auftrag | I7: 120x60 | J7: 1.39 | K7: 2 | L7: 79 | M7: 6 | N7: 0.25
A8: Verschnittzuschlag Dachschraege | B8: 0.03 | C8: Anteil
A9: Fliesenkleber Sackgewicht | B9: 25 | C9: kg
A10: Fliesenkleber Preis je Sack | B10: 18.9 | C10: EUR
A11: Fugenmasse Eimergewicht | B11: 5 | C11: kg
A12: Fugenmasse Preis je Eimer | B12: 21.4 | C12: EUR
A13: Umsatzsteuer | B13: 0.19 | C13: Anteil

Sheet Raeume
A1: Raum-Nr. | B1: Auftrag | C1: Raum | D1: Laenge m | E1: Breite m | F1: Fliesenhoehe Wand m | G1: Boden fliesen (1/0) | H1: Aussparung Boden m2 | I1: Kniestock m (0=keine Schraege) | J1: Schraegentiefe m | K1: Oeffnung 1 Breite | L1: Oeffnung 1 Hoehe | M1: Oeffnung 2 Breite | N1: Oeffnung 2 Hoehe | O1: Oeffnung 3 Breite | P1: Oeffnung 3 Hoehe | Q1: Verlegeart | R1: Format | S1: Schwierigkeit (1-3) | T1: Wand brutto m2 | U1: Oeffnungen m2 | V1: Boden brutto m2 | W1: Pruefung | X1: Fehler (1/0) | Y1: Fliesenflaeche m2 | Z1: Verschnitt | AA1: Bedarf m2 | AB1: Fliesen Stueck | AC1: Fliesen Pakete | AD1: Fliesen EUR | AE1: Kleber Saecke | AF1: Kleber EUR | AG1: Fuge Eimer | AH1: Fuge EUR | AI1: Material EUR | AJ1: Arbeitszeit h | AK1: Lohn EUR
A2: R01 | B2: A-01 | C2: Bad | D2: 2.4 | E2: 1.8 | F2: 2.1 | G2: 1 | H2: 0.64 | I2: 0 | J2: 0 | K2: 0.8 | L2: 2 | M2: 0.6 | N2: 0.8 | O2: 0 | P2: 0 | Q2: Halbverband | R2: 30x60 | S2: 2 | T2: =IF(A2="","",IF(I2>0,D2*F2+D2*I2+2*(E2*F2-J2*(F2-I2)/2),2*(D2+E2)*F2)) | U2: =IF(A2="","",K2*L2+M2*N2+O2*P2) | V2: =IF(A2="","",G2*D2*E2) | W2: =IF(A2="","",IF(OR(D2<=0,E2<=0,MIN(F2,H2,I2,J2,K2,L2,M2,N2,O2,P2)<0),"FEHLER: Masse",IF(OR(ISNA(MATCH(Q2,Regeln!$E$3:$E$6,0)),ISNA(MATCH(R2,Regeln!$I$3:$I$7,0)),ISNA(MATCH(S2,Regeln!$P$3:$P$5,0))),"FEHLER: Regel fehlt",IF(AND(I2>0,OR(I2>=F2,J2<=0,J2>E2)),"FEHLER: Schraege",IF(ROUND(U2-T2,9)>0,"FEHLER: Oeffnungen > Wand",IF(ROUND(H2-V2,9)>0,"FEHLER: Abzug > Boden",IF(ROUND(T2-U2+V2-H2,9)<=0,"FEHLER: keine Flaeche","OK"))))))) | X2: =IF(A2="",0,IF(W2="OK",0,1)) | Y2: =IF(W2<>"OK","",ROUND(T2-U2+V2-H2,9)) | Z2: =IF(W2<>"OK","",VLOOKUP(Q2,Regeln!$E$3:$G$6,2,FALSE)+IF(I2>0,Regeln!$B$8,0)) | AA2: =IF(W2<>"OK","",Y2*(1+Z2)) | AB2: =IF(W2<>"OK","",ROUNDUP(ROUND(AA2*VLOOKUP(R2,Regeln!$I$3:$N$7,2,FALSE),9),0)) | AC2: =IF(W2<>"OK","",ROUNDUP(ROUND(AB2/VLOOKUP(R2,Regeln!$I$3:$N$7,3,FALSE),9),0)) | AD2: =IF(W2<>"OK","",AC2*VLOOKUP(R2,Regeln!$I$3:$N$7,4,FALSE)) | AE2: =IF(W2<>"OK","",ROUNDUP(ROUND(Y2*VLOOKUP(R2,Regeln!$I$3:$N$7,5,FALSE)/Regeln!$B$9,9),0)) | AF2: =IF(W2<>"OK","",AE2*Regeln!$B$10) | AG2: =IF(W2<>"OK","",ROUNDUP(ROUND(Y2*VLOOKUP(R2,Regeln!$I$3:$N$7,6,FALSE)/Regeln!$B$11,9),0)) | AH2: =IF(W2<>"OK","",AG2*Regeln!$B$12) | AI2: =IF(W2<>"OK","",ROUND(ROUND((AD2+AF2+AH2)*100,7),0)/100) | AJ2: =IF(W2<>"OK","",ROUND(ROUND((Y2*VLOOKUP(S2,Regeln!$P$3:$Q$5,2,FALSE)*VLOOKUP(Q2,Regeln!$E$3:$G$6,3,FALSE))*100,7),0)/100) | AK2: =IF(W2<>"OK","",ROUND(ROUND((AJ2*Regeln!$B$3)*100,7),0)/100)
A3: R02 | B3: A-01 | C3: Gaeste-WC | D3: 1.2 | E3: 1 | F3: 1.2 | G3: 1 | H3: 0 | I3: 0 | J3: 0 | K3: 0.75 | L3: 1.2 | M3: 0 | N3: 0 | O3: 0 | P3: 0 | Q3: Gerade | R3: 20x20 | S3: 3 | T3: =IF(A3="","",IF(I3>0,D3*F3+D3*I3+2*(E3*F3-J3*(F3-I3)/2),2*(D3+E3)*F3)) | U3: =IF(A3="","",K3*L3+M3*N3+O3*P3) | V3: =IF(A3="","",G3*D3*E3) | W3: =IF(A3="","",IF(OR(D3<=0,E3<=0,MIN(F3,H3,I3,J3,K3,L3,M3,N3,O3,P3)<0),"FEHLER: Masse",IF(OR(ISNA(MATCH(Q3,Regeln!$E$3:$E$6,0)),ISNA(MATCH(R3,Regeln!$I$3:$I$7,0)),ISNA(MATCH(S3,Regeln!$P$3:$P$5,0))),"FEHLER: Regel fehlt",IF(AND(I3>0,OR(I3>=F3,J3<=0,J3>E3)),"FEHLER: Schraege",IF(ROUND(U3-T3,9)>0,"FEHLER: Oeffnungen > Wand",IF(ROUND(H3-V3,9)>0,"FEHLER: Abzug > Boden",IF(ROUND(T3-U3+V3-H3,9)<=0,"FEHLER: keine Flaeche","OK"))))))) | X3: =IF(A3="",0,IF(W3="OK",0,1)) | Y3: =IF(W3<>"OK","",ROUND(T3-U3+V3-H3,9)) | Z3: =IF(W3<>"OK","",VLOOKUP(Q3,Regeln!$E$3:$G$6,2,FALSE)+IF(I3>0,Regeln!$B$8,0)) | AA3: =IF(W3<>"OK","",Y3*(1+Z3)) | AB3: =IF(W3<>"OK","",ROUNDUP(ROUND(AA3*VLOOKUP(R3,Regeln!$I$3:$N$7,2,FALSE),9),0)) | AC3: =IF(W3<>"OK","",ROUNDUP(ROUND(AB3/VLOOKUP(R3,Regeln!$I$3:$N$7,3,FALSE),9),0)) | AD3: =IF(W3<>"OK","",AC3*VLOOKUP(R3,Regeln!$I$3:$N$7,4,FALSE)) | AE3: =IF(W3<>"OK","",ROUNDUP(ROUND(Y3*VLOOKUP(R3,Regeln!$I$3:$N$7,5,FALSE)/Regeln!$B$9,9),0)) | AF3: =IF(W3<>"OK","",AE3*Regeln!$B$10) | AG3: =IF(W3<>"OK","",ROUNDUP(ROUND(Y3*VLOOKUP(R3,Regeln!$I$3:$N$7,6,FALSE)/Regeln!$B$11,9),0)) | AH3: =IF(W3<>"OK","",AG3*Regeln!$B$12) | AI3: =IF(W3<>"OK","",ROUND(ROUND((AD3+AF3+AH3)*100,7),0)/100) | AJ3: =IF(W3<>"OK","",ROUND(ROUND((Y3*VLOOKUP(S3,Regeln!$P$3:$Q$5,2,FALSE)*VLOOKUP(Q3,Regeln!$E$3:$G$6,3,FALSE))*100,7),0)/100) | AK3: =IF(W3<>"OK","",ROUND(ROUND((AJ3*Regeln!$B$3)*100,7),0)/100)
A4: R03 | B4: A-02 | C4: Dachbad | D4: 3.2 | E4: 2.6 | F4: 2.4 | G4: 1 | H4: 0 | I4: 1 | J4: 1.2 | K4: 0.8 | L4: 2 | M4: 0.78 | N4: 0.98 | O4: 0 | P4: 0 | Q4: Gerade | R4: 30x60 | S4: 3 | T4: =IF(A4="","",IF(I4>0,D4*F4+D4*I4+2*(E4*F4-J4*(F4-I4)/2),2*(D4+E4)*F4)) | U4: =IF(A4="","",K4*L4+M4*N4+O4*P4) | V4: =IF(A4="","",G4*D4*E4) | W4: =IF(A4="","",IF(OR(D4<=0,E4<=0,MIN(F4,H4,I4,J4,K4,L4,M4,N4,O4,P4)<0),"FEHLER: Masse",IF(OR(ISNA(MATCH(Q4,Regeln!$E$3:$E$6,0)),ISNA(MATCH(R4,Regeln!$I$3:$I$7,0)),ISNA(MATCH(S4,Regeln!$P$3:$P$5,0))),"FEHLER: Regel fehlt",IF(AND(I4>0,OR(I4>=F4,J4<=0,J4>E4)),"FEHLER: Schraege",IF(ROUND(U4-T4,9)>0,"FEHLER: Oeffnungen > Wand",IF(ROUND(H4-V4,9)>0,"FEHLER: Abzug > Boden",IF(ROUND(T4-U4+V4-H4,9)<=0,"FEHLER: keine Flaeche","OK"))))))) | X4: =IF(A4="",0,IF(W4="OK",0,1)) | Y4: =IF(W4<>"OK","",ROUND(T4-U4+V4-H4,9)) | Z4: =IF(W4<>"OK","",VLOOKUP(Q4,Regeln!$E$3:$G$6,2,FALSE)+IF(I4>0,Regeln!$B$8,0)) | AA4: =IF(W4<>"OK","",Y4*(1+Z4)) | AB4: =IF(W4<>"OK","",ROUNDUP(ROUND(AA4*VLOOKUP(R4,Regeln!$I$3:$N$7,2,FALSE),9),0)) | AC4: =IF(W4<>"OK","",ROUNDUP(ROUND(AB4/VLOOKUP(R4,Regeln!$I$3:$N$7,3,FALSE),9),0)) | AD4: =IF(W4<>"OK","",AC4*VLOOKUP(R4,Regeln!$I$3:$N$7,4,FALSE)) | AE4: =IF(W4<>"OK","",ROUNDUP(ROUND(Y4*VLOOKUP(R4,Regeln!$I$3:$N$7,5,FALSE)/Regeln!$B$9,9),0)) | AF4: =IF(W4<>"OK","",AE4*Regeln!$B$10) | AG4: =IF(W4<>"OK","",ROUNDUP(ROUND(Y4*VLOOKUP(R4,Regeln!$I$3:$N$7,6,FALSE)/Regeln!$B$11,9),0)) | AH4: =IF(W4<>"OK","",AG4*Regeln!$B$12) | AI4: =IF(W4<>"OK","",ROUND(ROUND((AD4+AF4+AH4)*100,7),0)/100) | AJ4: =IF(W4<>"OK","",ROUND(ROUND((Y4*VLOOKUP(S4,Regeln!$P$3:$Q$5,2,FALSE)*VLOOKUP(Q4,Regeln!$E$3:$G$6,3,FALSE))*100,7),0)/100) | AK4: =IF(W4<>"OK","",ROUND(ROUND((AJ4*Regeln!$B$3)*100,7),0)/100)
A5: R04 | B5: A-02 | C5: Dachdusche | D5: 1.6 | E5: 1.4 | F5: 2.2 | G5: 0 | H5: 0 | I5: 0.9 | J5: 0.8 | K5: 0 | L5: 0 | M5: 0 | N5: 0 | O5: 0 | P5: 0 | Q5: Diagonal | R5: 30x30 | S5: 3 | T5: =IF(A5="","",IF(I5>0,D5*F5+D5*I5+2*(E5*F5-J5*(F5-I5)/2),2*(D5+E5)*F5)) | U5: =IF(A5="","",K5*L5+M5*N5+O5*P5) | V5: =IF(A5="","",G5*D5*E5) | W5: =IF(A5="","",IF(OR(D5<=0,E5<=0,MIN(F5,H5,I5,J5,K5,L5,M5,N5,O5,P5)<0),"FEHLER: Masse",IF(OR(ISNA(MATCH(Q5,Regeln!$E$3:$E$6,0)),ISNA(MATCH(R5,Regeln!$I$3:$I$7,0)),ISNA(MATCH(S5,Regeln!$P$3:$P$5,0))),"FEHLER: Regel fehlt",IF(AND(I5>0,OR(I5>=F5,J5<=0,J5>E5)),"FEHLER: Schraege",IF(ROUND(U5-T5,9)>0,"FEHLER: Oeffnungen > Wand",IF(ROUND(H5-V5,9)>0,"FEHLER: Abzug > Boden",IF(ROUND(T5-U5+V5-H5,9)<=0,"FEHLER: keine Flaeche","OK"))))))) | X5: =IF(A5="",0,IF(W5="OK",0,1)) | Y5: =IF(W5<>"OK","",ROUND(T5-U5+V5-H5,9)) | Z5: =IF(W5<>"OK","",VLOOKUP(Q5,Regeln!$E$3:$G$6,2,FALSE)+IF(I5>0,Regeln!$B$8,0)) | AA5: =IF(W5<>"OK","",Y5*(1+Z5)) | AB5: =IF(W5<>"OK","",ROUNDUP(ROUND(AA5*VLOOKUP(R5,Regeln!$I$3:$N$7,2,FALSE),9),0)) | AC5: =IF(W5<>"OK","",ROUNDUP(ROUND(AB5/VLOOKUP(R5,Regeln!$I$3:$N$7,3,FALSE),9),0)) | AD5: =IF(W5<>"OK","",AC5*VLOOKUP(R5,Regeln!$I$3:$N$7,4,FALSE)) | AE5: =IF(W5<>"OK","",ROUNDUP(ROUND(Y5*VLOOKUP(R5,Regeln!$I$3:$N$7,5,FALSE)/Regeln!$B$9,9),0)) | AF5: =IF(W5<>"OK","",AE5*Regeln!$B$10) | AG5: =IF(W5<>"OK","",ROUNDUP(ROUND(Y5*VLOOKUP(R5,Regeln!$I$3:$N$7,6,FALSE)/Regeln!$B$11,9),0)) | AH5: =IF(W5<>"OK","",AG5*Regeln!$B$12) | AI5: =IF(W5<>"OK","",ROUND(ROUND((AD5+AF5+AH5)*100,7),0)/100) | AJ5: =IF(W5<>"OK","",ROUND(ROUND((Y5*VLOOKUP(S5,Regeln!$P$3:$Q$5,2,FALSE)*VLOOKUP(Q5,Regeln!$E$3:$G$6,3,FALSE))*100,7),0)/100) | AK5: =IF(W5<>"OK","",ROUND(ROUND((AJ5*Regeln!$B$3)*100,7),0)/100)
A6: R05 | B6: A-03 | C6: Oeffnung groesser als Wand | D6: 1 | E6: 1 | F6: 0.3 | G6: 0 | H6: 0 | I6: 0 | J6: 0 | K6: 0.9 | L6: 2 | M6: 0 | N6: 0 | O6: 0 | P6: 0 | Q6: Gerade | R6: 30x60 | S6: 2 | T6: =IF(A6="","",IF(I6>0,D6*F6+D6*I6+2*(E6*F6-J6*(F6-I6)/2),2*(D6+E6)*F6)) | U6: =IF(A6="","",K6*L6+M6*N6+O6*P6) | V6: =IF(A6="","",G6*D6*E6) | W6: =IF(A6="","",IF(OR(D6<=0,E6<=0,MIN(F6,H6,I6,J6,K6,L6,M6,N6,O6,P6)<0),"FEHLER: Masse",IF(OR(ISNA(MATCH(Q6,Regeln!$E$3:$E$6,0)),ISNA(MATCH(R6,Regeln!$I$3:$I$7,0)),ISNA(MATCH(S6,Regeln!$P$3:$P$5,0))),"FEHLER: Regel fehlt",IF(AND(I6>0,OR(I6>=F6,J6<=0,J6>E6)),"FEHLER: Schraege",IF(ROUND(U6-T6,9)>0,"FEHLER: Oeffnungen > Wand",IF(ROUND(H6-V6,9)>0,"FEHLER: Abzug > Boden",IF(ROUND(T6-U6+V6-H6,9)<=0,"FEHLER: keine Flaeche","OK"))))))) | X6: =IF(A6="",0,IF(W6="OK",0,1)) | Y6: =IF(W6<>"OK","",ROUND(T6-U6+V6-H6,9)) | Z6: =IF(W6<>"OK","",VLOOKUP(Q6,Regeln!$E$3:$G$6,2,FALSE)+IF(I6>0,Regeln!$B$8,0)) | AA6: =IF(W6<>"OK","",Y6*(1+Z6)) | AB6: =IF(W6<>"OK","",ROUNDUP(ROUND(AA6*VLOOKUP(R6,Regeln!$I$3:$N$7,2,FALSE),9),0)) | AC6: =IF(W6<>"OK","",ROUNDUP(ROUND(AB6/VLOOKUP(R6,Regeln!$I$3:$N$7,3,FALSE),9),0)) | AD6: =IF(W6<>"OK","",AC6*VLOOKUP(R6,Regeln!$I$3:$N$7,4,FALSE)) | AE6: =IF(W6<>"OK","",ROUNDUP(ROUND(Y6*VLOOKUP(R6,Regeln!$I$3:$N$7,5,FALSE)/Regeln!$B$9,9),0)) | AF6: =IF(W6<>"OK","",AE6*Regeln!$B$10) | AG6: =IF(W6<>"OK","",ROUNDUP(ROUND(Y6*VLOOKUP(R6,Regeln!$I$3:$N$7,6,FALSE)/Regeln!$B$11,9),0)) | AH6: =IF(W6<>"OK","",AG6*Regeln!$B$12) | AI6: =IF(W6<>"OK","",ROUND(ROUND((AD6+AF6+AH6)*100,7),0)/100) | AJ6: =IF(W6<>"OK","",ROUND(ROUND((Y6*VLOOKUP(S6,Regeln!$P$3:$Q$5,2,FALSE)*VLOOKUP(Q6,Regeln!$E$3:$G$6,3,FALSE))*100,7),0)/100) | AK6: =IF(W6<>"OK","",ROUND(ROUND((AJ6*Regeln!$B$3)*100,7),0)/100)
A7: R06 | B7: A-04 | C7: Aussparung groesser als Boden | D7: 1 | E7: 0.9 | F7: 0 | G7: 1 | H7: 1.2 | I7: 0 | J7: 0 | K7: 0 | L7: 0 | M7: 0 | N7: 0 | O7: 0 | P7: 0 | Q7: Gerade | R7: 30x60 | S7: 2 | T7: =IF(A7="","",IF(I7>0,D7*F7+D7*I7+2*(E7*F7-J7*(F7-I7)/2),2*(D7+E7)*F7)) | U7: =IF(A7="","",K7*L7+M7*N7+O7*P7) | V7: =IF(A7="","",G7*D7*E7) | W7: =IF(A7="","",IF(OR(D7<=0,E7<=0,MIN(F7,H7,I7,J7,K7,L7,M7,N7,O7,P7)<0),"FEHLER: Masse",IF(OR(ISNA(MATCH(Q7,Regeln!$E$3:$E$6,0)),ISNA(MATCH(R7,Regeln!$I$3:$I$7,0)),ISNA(MATCH(S7,Regeln!$P$3:$P$5,0))),"FEHLER: Regel fehlt",IF(AND(I7>0,OR(I7>=F7,J7<=0,J7>E7)),"FEHLER: Schraege",IF(ROUND(U7-T7,9)>0,"FEHLER: Oeffnungen > Wand",IF(ROUND(H7-V7,9)>0,"FEHLER: Abzug > Boden",IF(ROUND(T7-U7+V7-H7,9)<=0,"FEHLER: keine Flaeche","OK"))))))) | X7: =IF(A7="",0,IF(W7="OK",0,1)) | Y7: =IF(W7<>"OK","",ROUND(T7-U7+V7-H7,9)) | Z7: =IF(W7<>"OK","",VLOOKUP(Q7,Regeln!$E$3:$G$6,2,FALSE)+IF(I7>0,Regeln!$B$8,0)) | AA7: =IF(W7<>"OK","",Y7*(1+Z7)) | AB7: =IF(W7<>"OK","",ROUNDUP(ROUND(AA7*VLOOKUP(R7,Regeln!$I$3:$N$7,2,FALSE),9),0)) | AC7: =IF(W7<>"OK","",ROUNDUP(ROUND(AB7/VLOOKUP(R7,Regeln!$I$3:$N$7,3,FALSE),9),0)) | AD7: =IF(W7<>"OK","",AC7*VLOOKUP(R7,Regeln!$I$3:$N$7,4,FALSE)) | AE7: =IF(W7<>"OK","",ROUNDUP(ROUND(Y7*VLOOKUP(R7,Regeln!$I$3:$N$7,5,FALSE)/Regeln!$B$9,9),0)) | AF7: =IF(W7<>"OK","",AE7*Regeln!$B$10) | AG7: =IF(W7<>"OK","",ROUNDUP(ROUND(Y7*VLOOKUP(R7,Regeln!$I$3:$N$7,6,FALSE)/Regeln!$B$11,9),0)) | AH7: =IF(W7<>"OK","",AG7*Regeln!$B$12) | AI7: =IF(W7<>"OK","",ROUND(ROUND((AD7+AF7+AH7)*100,7),0)/100) | AJ7: =IF(W7<>"OK","",ROUND(ROUND((Y7*VLOOKUP(S7,Regeln!$P$3:$Q$5,2,FALSE)*VLOOKUP(Q7,Regeln!$E$3:$G$6,3,FALSE))*100,7),0)/100) | AK7: =IF(W7<>"OK","",ROUND(ROUND((AJ7*Regeln!$B$3)*100,7),0)/100)
A8: R07 | B8: A-05 | C8: Kniestock hoeher als Fliesen | D8: 3 | E8: 2.5 | F8: 2.4 | G8: 1 | H8: 0 | I8: 2.5 | J8: 1 | K8: 0 | L8: 0 | M8: 0 | N8: 0 | O8: 0 | P8: 0 | Q8: Gerade | R8: 30x60 | S8: 2 | T8: =IF(A8="","",IF(I8>0,D8*F8+D8*I8+2*(E8*F8-J8*(F8-I8)/2),2*(D8+E8)*F8)) | U8: =IF(A8="","",K8*L8+M8*N8+O8*P8) | V8: =IF(A8="","",G8*D8*E8) | W8: =IF(A8="","",IF(OR(D8<=0,E8<=0,MIN(F8,H8,I8,J8,K8,L8,M8,N8,O8,P8)<0),"FEHLER: Masse",IF(OR(ISNA(MATCH(Q8,Regeln!$E$3:$E$6,0)),ISNA(MATCH(R8,Regeln!$I$3:$I$7,0)),ISNA(MATCH(S8,Regeln!$P$3:$P$5,0))),"FEHLER: Regel fehlt",IF(AND(I8>0,OR(I8>=F8,J8<=0,J8>E8)),"FEHLER: Schraege",IF(ROUND(U8-T8,9)>0,"FEHLER: Oeffnungen > Wand",IF(ROUND(H8-V8,9)>0,"FEHLER: Abzug > Boden",IF(ROUND(T8-U8+V8-H8,9)<=0,"FEHLER: keine Flaeche","OK"))))))) | X8: =IF(A8="",0,IF(W8="OK",0,1)) | Y8: =IF(W8<>"OK","",ROUND(T8-U8+V8-H8,9)) | Z8: =IF(W8<>"OK","",VLOOKUP(Q8,Regeln!$E$3:$G$6,2,FALSE)+IF(I8>0,Regeln!$B$8,0)) | AA8: =IF(W8<>"OK","",Y8*(1+Z8)) | AB8: =IF(W8<>"OK","",ROUNDUP(ROUND(AA8*VLOOKUP(R8,Regeln!$I$3:$N$7,2,FALSE),9),0)) | AC8: =IF(W8<>"OK","",ROUNDUP(ROUND(AB8/VLOOKUP(R8,Regeln!$I$3:$N$7,3,FALSE),9),0)) | AD8: =IF(W8<>"OK","",AC8*VLOOKUP(R8,Regeln!$I$3:$N$7,4,FALSE)) | AE8: =IF(W8<>"OK","",ROUNDUP(ROUND(Y8*VLOOKUP(R8,Regeln!$I$3:$N$7,5,FALSE)/Regeln!$B$9,9),0)) | AF8: =IF(W8<>"OK","",AE8*Regeln!$B$10) | AG8: =IF(W8<>"OK","",ROUNDUP(ROUND(Y8*VLOOKUP(R8,Regeln!$I$3:$N$7,6,FALSE)/Regeln!$B$11,9),0)) | AH8: =IF(W8<>"OK","",AG8*Regeln!$B$12) | AI8: =IF(W8<>"OK","",ROUND(ROUND((AD8+AF8+AH8)*100,7),0)/100) | AJ8: =IF(W8<>"OK","",ROUND(ROUND((Y8*VLOOKUP(S8,Regeln!$P$3:$Q$5,2,FALSE)*VLOOKUP(Q8,Regeln!$E$3:$G$6,3,FALSE))*100,7),0)/100) | AK8: =IF(W8<>"OK","",ROUND(ROUND((AJ8*Regeln!$B$3)*100,7),0)/100)
A9: R08 | B9: A-06 | C9: Format nicht in Regeln | D9: 2 | E9: 2 | F9: 0 | G9: 1 | H9: 0 | I9: 0 | J9: 0 | K9: 0 | L9: 0 | M9: 0 | N9: 0 | O9: 0 | P9: 0 | Q9: Gerade | R9: 45x90 | S9: 2 | T9: =IF(A9="","",IF(I9>0,D9*F9+D9*I9+2*(E9*F9-J9*(F9-I9)/2),2*(D9+E9)*F9)) | U9: =IF(A9="","",K9*L9+M9*N9+O9*P9) | V9: =IF(A9="","",G9*D9*E9) | W9: =IF(A9="","",IF(OR(D9<=0,E9<=0,MIN(F9,H9,I9,J9,K9,L9,M9,N9,O9,P9)<0),"FEHLER: Masse",IF(OR(ISNA(MATCH(Q9,Regeln!$E$3:$E$6,0)),ISNA(MATCH(R9,Regeln!$I$3:$I$7,0)),ISNA(MATCH(S9,Regeln!$P$3:$P$5,0))),"FEHLER: Regel fehlt",IF(AND(I9>0,OR(I9>=F9,J9<=0,J9>E9)),"FEHLER: Schraege",IF(ROUND(U9-T9,9)>0,"FEHLER: Oeffnungen > Wand",IF(ROUND(H9-V9,9)>0,"FEHLER: Abzug > Boden",IF(ROUND(T9-U9+V9-H9,9)<=0,"FEHLER: keine Flaeche","OK"))))))) | X9: =IF(A9="",0,IF(W9="OK",0,1)) | Y9: =IF(W9<>"OK","",ROUND(T9-U9+V9-H9,9)) | Z9: =IF(W9<>"OK","",VLOOKUP(Q9,Regeln!$E$3:$G$6,2,FALSE)+IF(I9>0,Regeln!$B$8,0)) | AA9: =IF(W9<>"OK","",Y9*(1+Z9)) | AB9: =IF(W9<>"OK","",ROUNDUP(ROUND(AA9*VLOOKUP(R9,Regeln!$I$3:$N$7,2,FALSE),9),0)) | AC9: =IF(W9<>"OK","",ROUNDUP(ROUND(AB9/VLOOKUP(R9,Regeln!$I$3:$N$7,3,FALSE),9),0)) | AD9: =IF(W9<>"OK","",AC9*VLOOKUP(R9,Regeln!$I$3:$N$7,4,FALSE)) | AE9: =IF(W9<>"OK","",ROUNDUP(ROUND(Y9*VLOOKUP(R9,Regeln!$I$3:$N$7,5,FALSE)/Regeln!$B$9,9),0)) | AF9: =IF(W9<>"OK","",AE9*Regeln!$B$10) | AG9: =IF(W9<>"OK","",ROUNDUP(ROUND(Y9*VLOOKUP(R9,Regeln!$I$3:$N$7,6,FALSE)/Regeln!$B$11,9),0)) | AH9: =IF(W9<>"OK","",AG9*Regeln!$B$12) | AI9: =IF(W9<>"OK","",ROUND(ROUND((AD9+AF9+AH9)*100,7),0)/100) | AJ9: =IF(W9<>"OK","",ROUND(ROUND((Y9*VLOOKUP(S9,Regeln!$P$3:$Q$5,2,FALSE)*VLOOKUP(Q9,Regeln!$E$3:$G$6,3,FALSE))*100,7),0)/100) | AK9: =IF(W9<>"OK","",ROUND(ROUND((AJ9*Regeln!$B$3)*100,7),0)/100)
A10: R09 | B10: A-07 | C10: Negative Breite | D10: 2 | E10: -2 | F10: 0 | G10: 1 | H10: 0 | I10: 0 | J10: 0 | K10: 0 | L10: 0 | M10: 0 | N10: 0 | O10: 0 | P10: 0 | Q10: Gerade | R10: 30x60 | S10: 2 | T10: =IF(A10="","",IF(I10>0,D10*F10+D10*I10+2*(E10*F10-J10*(F10-I10)/2),2*(D10+E10)*F10)) | U10: =IF(A10="","",K10*L10+M10*N10+O10*P10) | V10: =IF(A10="","",G10*D10*E10) | W10: =IF(A10="","",IF(OR(D10<=0,E10<=0,MIN(F10,H10,I10,J10,K10,L10,M10,N10,O10,P10)<0),"FEHLER: Masse",IF(OR(ISNA(MATCH(Q10,Regeln!$E$3:$E$6,0)),ISNA(MATCH(R10,Regeln!$I$3:$I$7,0)),ISNA(MATCH(S10,Regeln!$P$3:$P$5,0))),"FEHLER: Regel fehlt",IF(AND(I10>0,OR(I10>=F10,J10<=0,J10>E10)),"FEHLER: Schraege",IF(ROUND(U10-T10,9)>0,"FEHLER: Oeffnungen > Wand",IF(ROUND(H10-V10,9)>0,"FEHLER: Abzug > Boden",IF(ROUND(T10-U10+V10-H10,9)<=0,"FEHLER: keine Flaeche","OK"))))))) | X10: =IF(A10="",0,IF(W10="OK",0,1)) | Y10: =IF(W10<>"OK","",ROUND(T10-U10+V10-H10,9)) | Z10: =IF(W10<>"OK","",VLOOKUP(Q10,Regeln!$E$3:$G$6,2,FALSE)+IF(I10>0,Regeln!$B$8,0)) | AA10: =IF(W10<>"OK","",Y10*(1+Z10)) | AB10: =IF(W10<>"OK","",ROUNDUP(ROUND(AA10*VLOOKUP(R10,Regeln!$I$3:$N$7,2,FALSE),9),0)) | AC10: =IF(W10<>"OK","",ROUNDUP(ROUND(AB10/VLOOKUP(R10,Regeln!$I$3:$N$7,3,FALSE),9),0)) | AD10: =IF(W10<>"OK","",AC10*VLOOKUP(R10,Regeln!$I$3:$N$7,4,FALSE)) | AE10: =IF(W10<>"OK","",ROUNDUP(ROUND(Y10*VLOOKUP(R10,Regeln!$I$3:$N$7,5,FALSE)/Regeln!$B$9,9),0)) | AF10: =IF(W10<>"OK","",AE10*Regeln!$B$10) | AG10: =IF(W10<>"OK","",ROUNDUP(ROUND(Y10*VLOOKUP(R10,Regeln!$I$3:$N$7,6,FALSE)/Regeln!$B$11,9),0)) | AH10: =IF(W10<>"OK","",AG10*Regeln!$B$12) | AI10: =IF(W10<>"OK","",ROUND(ROUND((AD10+AF10+AH10)*100,7),0)/100) | AJ10: =IF(W10<>"OK","",ROUND(ROUND((Y10*VLOOKUP(S10,Regeln!$P$3:$Q$5,2,FALSE)*VLOOKUP(Q10,Regeln!$E$3:$G$6,3,FALSE))*100,7),0)/100) | AK10: =IF(W10<>"OK","",ROUND(ROUND((AJ10*Regeln!$B$3)*100,7),0)/100)
A11: R10 | B11: A-08 | C11: Weder Wand noch Boden | D11: 2 | E11: 1.5 | F11: 0 | G11: 0 | H11: 0 | I11: 0 | J11: 0 | K11: 0 | L11: 0 | M11: 0 | N11: 0 | O11: 0 | P11: 0 | Q11: Gerade | R11: 30x60 | S11: 2 | T11: =IF(A11="","",IF(I11>0,D11*F11+D11*I11+2*(E11*F11-J11*(F11-I11)/2),2*(D11+E11)*F11)) | U11: =IF(A11="","",K11*L11+M11*N11+O11*P11) | V11: =IF(A11="","",G11*D11*E11) | W11: =IF(A11="","",IF(OR(D11<=0,E11<=0,MIN(F11,H11,I11,J11,K11,L11,M11,N11,O11,P11)<0),"FEHLER: Masse",IF(OR(ISNA(MATCH(Q11,Regeln!$E$3:$E$6,0)),ISNA(MATCH(R11,Regeln!$I$3:$I$7,0)),ISNA(MATCH(S11,Regeln!$P$3:$P$5,0))),"FEHLER: Regel fehlt",IF(AND(I11>0,OR(I11>=F11,J11<=0,J11>E11)),"FEHLER: Schraege",IF(ROUND(U11-T11,9)>0,"FEHLER: Oeffnungen > Wand",IF(ROUND(H11-V11,9)>0,"FEHLER: Abzug > Boden",IF(ROUND(T11-U11+V11-H11,9)<=0,"FEHLER: keine Flaeche","OK"))))))) | X11: =IF(A11="",0,IF(W11="OK",0,1)) | Y11: =IF(W11<>"OK","",ROUND(T11-U11+V11-H11,9)) | Z11: =IF(W11<>"OK","",VLOOKUP(Q11,Regeln!$E$3:$G$6,2,FALSE)+IF(I11>0,Regeln!$B$8,0)) | AA11: =IF(W11<>"OK","",Y11*(1+Z11)) | AB11: =IF(W11<>"OK","",ROUNDUP(ROUND(AA11*VLOOKUP(R11,Regeln!$I$3:$N$7,2,FALSE),9),0)) | AC11: =IF(W11<>"OK","",ROUNDUP(ROUND(AB11/VLOOKUP(R11,Regeln!$I$3:$N$7,3,FALSE),9),0)) | AD11: =IF(W11<>"OK","",AC11*VLOOKUP(R11,Regeln!$I$3:$N$7,4,FALSE)) | AE11: =IF(W11<>"OK","",ROUNDUP(ROUND(Y11*VLOOKUP(R11,Regeln!$I$3:$N$7,5,FALSE)/Regeln!$B$9,9),0)) | AF11: =IF(W11<>"OK","",AE11*Regeln!$B$10) | AG11: =IF(W11<>"OK","",ROUNDUP(ROUND(Y11*VLOOKUP(R11,Regeln!$I$3:$N$7,6,FALSE)/Regeln!$B$11,9),0)) | AH11: =IF(W11<>"OK","",AG11*Regeln!$B$12) | AI11: =IF(W11<>"OK","",ROUND(ROUND((AD11+AF11+AH11)*100,7),0)/100) | AJ11: =IF(W11<>"OK","",ROUND(ROUND((Y11*VLOOKUP(S11,Regeln!$P$3:$Q$5,2,FALSE)*VLOOKUP(Q11,Regeln!$E$3:$G$6,3,FALSE))*100,7),0)/100) | AK11: =IF(W11<>"OK","",ROUND(ROUND((AJ11*Regeln!$B$3)*100,7),0)/100)
A12: R11 | B12: A-09 | C12: Oeffnungen genau gleich Wand | D12: 1 | E12: 1 | F12: 0.5 | G12: 1 | H12: 0 | I12: 0 | J12: 0 | K12: 1 | L12: 0.5 | M12: 1 | N12: 0.5 | O12: 0 | P12: 0 | Q12: Gerade | R12: 20x20 | S12: 2 | T12: =IF(A12="","",IF(I12>0,D12*F12+D12*I12+2*(E12*F12-J12*(F12-I12)/2),2*(D12+E12)*F12)) | U12: =IF(A12="","",K12*L12+M12*N12+O12*P12) | V12: =IF(A12="","",G12*D12*E12) | W12: =IF(A12="","",IF(OR(D12<=0,E12<=0,MIN(F12,H12,I12,J12,K12,L12,M12,N12,O12,P12)<0),"FEHLER: Masse",IF(OR(ISNA(MATCH(Q12,Regeln!$E$3:$E$6,0)),ISNA(MATCH(R12,Regeln!$I$3:$I$7,0)),ISNA(MATCH(S12,Regeln!$P$3:$P$5,0))),"FEHLER: Regel fehlt",IF(AND(I12>0,OR(I12>=F12,J12<=0,J12>E12)),"FEHLER: Schraege",IF(ROUND(U12-T12,9)>0,"FEHLER: Oeffnungen > Wand",IF(ROUND(H12-V12,9)>0,"FEHLER: Abzug > Boden",IF(ROUND(T12-U12+V12-H12,9)<=0,"FEHLER: keine Flaeche","OK"))))))) | X12: =IF(A12="",0,IF(W12="OK",0,1)) | Y12: =IF(W12<>"OK","",ROUND(T12-U12+V12-H12,9)) | Z12: =IF(W12<>"OK","",VLOOKUP(Q12,Regeln!$E$3:$G$6,2,FALSE)+IF(I12>0,Regeln!$B$8,0)) | AA12: =IF(W12<>"OK","",Y12*(1+Z12)) | AB12: =IF(W12<>"OK","",ROUNDUP(ROUND(AA12*VLOOKUP(R12,Regeln!$I$3:$N$7,2,FALSE),9),0)) | AC12: =IF(W12<>"OK","",ROUNDUP(ROUND(AB12/VLOOKUP(R12,Regeln!$I$3:$N$7,3,FALSE),9),0)) | AD12: =IF(W12<>"OK","",AC12*VLOOKUP(R12,Regeln!$I$3:$N$7,4,FALSE)) | AE12: =IF(W12<>"OK","",ROUNDUP(ROUND(Y12*VLOOKUP(R12,Regeln!$I$3:$N$7,5,FALSE)/Regeln!$B$9,9),0)) | AF12: =IF(W12<>"OK","",AE12*Regeln!$B$10) | AG12: =IF(W12<>"OK","",ROUNDUP(ROUND(Y12*VLOOKUP(R12,Regeln!$I$3:$N$7,6,FALSE)/Regeln!$B$11,9),0)) | AH12: =IF(W12<>"OK","",AG12*Regeln!$B$12) | AI12: =IF(W12<>"OK","",ROUND(ROUND((AD12+AF12+AH12)*100,7),0)/100) | AJ12: =IF(W12<>"OK","",ROUND(ROUND((Y12*VLOOKUP(S12,Regeln!$P$3:$Q$5,2,FALSE)*VLOOKUP(Q12,Regeln!$E$3:$G$6,3,FALSE))*100,7),0)/100) | AK12: =IF(W12<>"OK","",ROUND(ROUND((AJ12*Regeln!$B$3)*100,7),0)/100)
A13: R12 | B13: A-10 | C13: Kueche Spiegel | D13: 3 | E13: 0.6 | F13: 0.6 | G13: 0 | H13: 0 | I13: 0 | J13: 0 | K13: 0.6 | L13: 0.4 | M13: 0 | N13: 0 | O13: 0 | P13: 0 | Q13: Gerade | R13: 20x20 | S13: 2 | T13: =IF(A13="","",IF(I13>0,D13*F13+D13*I13+2*(E13*F13-J13*(F13-I13)/2),2*(D13+E13)*F13)) | U13: =IF(A13="","",K13*L13+M13*N13+O13*P13) | V13: =IF(A13="","",G13*D13*E13) | W13: =IF(A13="","",IF(OR(D13<=0,E13<=0,MIN(F13,H13,I13,J13,K13,L13,M13,N13,O13,P13)<0),"FEHLER: Masse",IF(OR(ISNA(MATCH(Q13,Regeln!$E$3:$E$6,0)),ISNA(MATCH(R13,Regeln!$I$3:$I$7,0)),ISNA(MATCH(S13,Regeln!$P$3:$P$5,0))),"FEHLER: Regel fehlt",IF(AND(I13>0,OR(I13>=F13,J13<=0,J13>E13)),"FEHLER: Schraege",IF(ROUND(U13-T13,9)>0,"FEHLER: Oeffnungen > Wand",IF(ROUND(H13-V13,9)>0,"FEHLER: Abzug > Boden",IF(ROUND(T13-U13+V13-H13,9)<=0,"FEHLER: keine Flaeche","OK"))))))) | X13: =IF(A13="",0,IF(W13="OK",0,1)) | Y13: =IF(W13<>"OK","",ROUND(T13-U13+V13-H13,9)) | Z13: =IF(W13<>"OK","",VLOOKUP(Q13,Regeln!$E$3:$G$6,2,FALSE)+IF(I13>0,Regeln!$B$8,0)) | AA13: =IF(W13<>"OK","",Y13*(1+Z13)) | AB13: =IF(W13<>"OK","",ROUNDUP(ROUND(AA13*VLOOKUP(R13,Regeln!$I$3:$N$7,2,FALSE),9),0)) | AC13: =IF(W13<>"OK","",ROUNDUP(ROUND(AB13/VLOOKUP(R13,Regeln!$I$3:$N$7,3,FALSE),9),0)) | AD13: =IF(W13<>"OK","",AC13*VLOOKUP(R13,Regeln!$I$3:$N$7,4,FALSE)) | AE13: =IF(W13<>"OK","",ROUNDUP(ROUND(Y13*VLOOKUP(R13,Regeln!$I$3:$N$7,5,FALSE)/Regeln!$B$9,9),0)) | AF13: =IF(W13<>"OK","",AE13*Regeln!$B$10) | AG13: =IF(W13<>"OK","",ROUNDUP(ROUND(Y13*VLOOKUP(R13,Regeln!$I$3:$N$7,6,FALSE)/Regeln!$B$11,9),0)) | AH13: =IF(W13<>"OK","",AG13*Regeln!$B$12) | AI13: =IF(W13<>"OK","",ROUND(ROUND((AD13+AF13+AH13)*100,7),0)/100) | AJ13: =IF(W13<>"OK","",ROUND(ROUND((Y13*VLOOKUP(S13,Regeln!$P$3:$Q$5,2,FALSE)*VLOOKUP(Q13,Regeln!$E$3:$G$6,3,FALSE))*100,7),0)/100) | AK13: =IF(W13<>"OK","",ROUND(ROUND((AJ13*Regeln!$B$3)*100,7),0)/100)
... A33: R32 | B33: A-20 | C33: Zufallsraum 10 | D33: 3.91 | E33: 4.2 | F33: 0 | G33: 1 | H33: 0.64 | I33: 0 | J33: 0 | K33: 0 | L33: 0 | M33: 0 | N33: 0 | O33: 0 | P33: 0 | Q33: Halbverband | R33: 30x60 | S33: 2 | T33: =IF(A33="","",IF(I33>0,D33*F33+D33*I33+2*(E33*F33-J33*(F33-I33)/2),2*(D33+E33)*F33)) | U33: =IF(A33="","",K33*L33+M33*N33+O33*P33) | V33: =IF(A33="","",G33*D33*E33) | W33: =IF(A33="","",IF(OR(D33<=0,E33<=0,MIN(F33,H33,I33,J33,K33,L33,M33,N33,O33,P33)<0),"FEHLER: Masse",IF(OR(ISNA(MATCH(Q33,Regeln!$E$3:$E$6,0)),ISNA(MATCH(R33,Regeln!$I$3:$I$7,0)),ISNA(MATCH(S33,Regeln!$P$3:$P$5,0))),"FEHLER: Regel fehlt",IF(AND(I33>0,OR(I33>=F33,J33<=0,J33>E33)),"FEHLER: Schraege",IF(ROUND(U33-T33,9)>0,"FEHLER: Oeffnungen > Wand",IF(ROUND(H33-V33,9)>0,"FEHLER: Abzug > Boden",IF(ROUND(T33-U33+V33-H33,9)<=0,"FEHLER: keine Flaeche","OK"))))))) | X33: =IF(A33="",0,IF(W33="OK",0,1)) | Y33: =IF(W33<>"OK","",ROUND(T33-U33+V33-H33,9)) | Z33: =IF(W33<>"OK","",VLOOKUP(Q33,Regeln!$E$3:$G$6,2,FALSE)+IF(I33>0,Regeln!$B$8,0)) | AA33: =IF(W33<>"OK","",Y33*(1+Z33)) | AB33: =IF(W33<>"OK","",ROUNDUP(ROUND(AA33*VLOOKUP(R33,Regeln!$I$3:$N$7,2,FALSE),9),0)) | AC33: =IF(W33<>"OK","",ROUNDUP(ROUND(AB33/VLOOKUP(R33,Regeln!$I$3:$N$7,3,FALSE),9),0)) | AD33: =IF(W33<>"OK","",AC33*VLOOKUP(R33,Regeln!$I$3:$N$7,4,FALSE)) | AE33: =IF(W33<>"OK","",ROUNDUP(ROUND(Y33*VLOOKUP(R33,Regeln!$I$3:$N$7,5,FALSE)/Regeln!$B$9,9),0)) | AF33: =IF(W33<>"OK","",AE33*Regeln!$B$10) | AG33: =IF(W33<>"OK","",ROUNDUP(ROUND(Y33*VLOOKUP(R33,Regeln!$I$3:$N$7,6,FALSE)/Regeln!$B$11,9),0)) | AH33: =IF(W33<>"OK","",AG33*Regeln!$B$12) | AI33: =IF(W33<>"OK","",ROUND(ROUND((AD33+AF33+AH33)*100,7),0)/100) | AJ33: =IF(W33<>"OK","",ROUND(ROUND((Y33*VLOOKUP(S33,Regeln!$P$3:$Q$5,2,FALSE)*VLOOKUP(Q33,Regeln!$E$3:$G$6,3,FALSE))*100,7),0)/100) | AK33: =IF(W33<>"OK","",ROUND(ROUND((AJ33*Regeln!$B$3)*100,7),0)/100)
T34: =IF(A34="","",IF(I34>0,D34*F34+D34*I34+2*(E34*F34-J34*(F34-I34)/2),2*(D34+E34)*F34)) | U34: =IF(A34="","",K34*L34+M34*N34+O34*P34) | V34: =IF(A34="","",G34*D34*E34) | W34: =IF(A34="","",IF(OR(D34<=0,E34<=0,MIN(F34,H34,I34,J34,K34,L34,M34,N34,O34,P34)<0),"FEHLER: Masse",IF(OR(ISNA(MATCH(Q34,Regeln!$E$3:$E$6,0)),ISNA(MATCH(R34,Regeln!$I$3:$I$7,0)),ISNA(MATCH(S34,Regeln!$P$3:$P$5,0))),"FEHLER: Regel fehlt",IF(AND(I34>0,OR(I34>=F34,J34<=0,J34>E34)),"FEHLER: Schraege",IF(ROUND(U34-T34,9)>0,"FEHLER: Oeffnungen > Wand",IF(ROUND(H34-V34,9)>0,"FEHLER: Abzug > Boden",IF(ROUND(T34-U34+V34-H34,9)<=0,"FEHLER: keine Flaeche","OK"))))))) | X34: =IF(A34="",0,IF(W34="OK",0,1)) | Y34: =IF(W34<>"OK","",ROUND(T34-U34+V34-H34,9)) | Z34: =IF(W34<>"OK","",VLOOKUP(Q34,Regeln!$E$3:$G$6,2,FALSE)+IF(I34>0,Regeln!$B$8,0)) | AA34: =IF(W34<>"OK","",Y34*(1+Z34)) | AB34: =IF(W34<>"OK","",ROUNDUP(ROUND(AA34*VLOOKUP(R34,Regeln!$I$3:$N$7,2,FALSE),9),0)) | AC34: =IF(W34<>"OK","",ROUNDUP(ROUND(AB34/VLOOKUP(R34,Regeln!$I$3:$N$7,3,FALSE),9),0)) | AD34: =IF(W34<>"OK","",AC34*VLOOKUP(R34,Regeln!$I$3:$N$7,4,FALSE)) | AE34: =IF(W34<>"OK","",ROUNDUP(ROUND(Y34*VLOOKUP(R34,Regeln!$I$3:$N$7,5,FALSE)/Regeln!$B$9,9),0)) | AF34: =IF(W34<>"OK","",AE34*Regeln!$B$10) | AG34: =IF(W34<>"OK","",ROUNDUP(ROUND(Y34*VLOOKUP(R34,Regeln!$I$3:$N$7,6,FALSE)/Regeln!$B$11,9),0)) | AH34: =IF(W34<>"OK","",AG34*Regeln!$B$12) | AI34: =IF(W34<>"OK","",ROUND(ROUND((AD34+AF34+AH34)*100,7),0)/100) | AJ34: =IF(W34<>"OK","",ROUND(ROUND((Y34*VLOOKUP(S34,Regeln!$P$3:$Q$5,2,FALSE)*VLOOKUP(Q34,Regeln!$E$3:$G$6,3,FALSE))*100,7),0)/100) | AK34: =IF(W34<>"OK","",ROUND(ROUND((AJ34*Regeln!$B$3)*100,7),0)/100)
T35: =IF(A35="","",IF(I35>0,D35*F35+D35*I35+2*(E35*F35-J35*(F35-I35)/2),2*(D35+E35)*F35)) | U35: =IF(A35="","",K35*L35+M35*N35+O35*P35) | V35: =IF(A35="","",G35*D35*E35) | W35: =IF(A35="","",IF(OR(D35<=0,E35<=0,MIN(F35,H35,I35,J35,K35,L35,M35,N35,O35,P35)<0),"FEHLER: Masse",IF(OR(ISNA(MATCH(Q35,Regeln!$E$3:$E$6,0)),ISNA(MATCH(R35,Regeln!$I$3:$I$7,0)),ISNA(MATCH(S35,Regeln!$P$3:$P$5,0))),"FEHLER: Regel fehlt",IF(AND(I35>0,OR(I35>=F35,J35<=0,J35>E35)),"FEHLER: Schraege",IF(ROUND(U35-T35,9)>0,"FEHLER: Oeffnungen > Wand",IF(ROUND(H35-V35,9)>0,"FEHLER: Abzug > Boden",IF(ROUND(T35-U35+V35-H35,9)<=0,"FEHLER: keine Flaeche","OK"))))))) | X35: =IF(A35="",0,IF(W35="OK",0,1)) | Y35: =IF(W35<>"OK","",ROUND(T35-U35+V35-H35,9)) | Z35: =IF(W35<>"OK","",VLOOKUP(Q35,Regeln!$E$3:$G$6,2,FALSE)+IF(I35>0,Regeln!$B$8,0)) | AA35: =IF(W35<>"OK","",Y35*(1+Z35)) | AB35: =IF(W35<>"OK","",ROUNDUP(ROUND(AA35*VLOOKUP(R35,Regeln!$I$3:$N$7,2,FALSE),9),0)) | AC35: =IF(W35<>"OK","",ROUNDUP(ROUND(AB35/VLOOKUP(R35,Regeln!$I$3:$N$7,3,FALSE),9),0)) | AD35: =IF(W35<>"OK","",AC35*VLOOKUP(R35,Regeln!$I$3:$N$7,4,FALSE)) | AE35: =IF(W35<>"OK","",ROUNDUP(ROUND(Y35*VLOOKUP(R35,Regeln!$I$3:$N$7,5,FALSE)/Regeln!$B$9,9),0)) | AF35: =IF(W35<>"OK","",AE35*Regeln!$B$10) | AG35: =IF(W35<>"OK","",ROUNDUP(ROUND(Y35*VLOOKUP(R35,Regeln!$I$3:$N$7,6,FALSE)/Regeln!$B$11,9),0)) | AH35: =IF(W35<>"OK","",AG35*Regeln!$B$12) | AI35: =IF(W35<>"OK","",ROUND(ROUND((AD35+AF35+AH35)*100,7),0)/100) | AJ35: =IF(W35<>"OK","",ROUND(ROUND((Y35*VLOOKUP(S35,Regeln!$P$3:$Q$5,2,FALSE)*VLOOKUP(Q35,Regeln!$E$3:$G$6,3,FALSE))*100,7),0)/100) | AK35: =IF(W35<>"OK","",ROUND(ROUND((AJ35*Regeln!$B$3)*100,7),0)/100)
T36: =IF(A36="","",IF(I36>0,D36*F36+D36*I36+2*(E36*F36-J36*(F36-I36)/2),2*(D36+E36)*F36)) | U36: =IF(A36="","",K36*L36+M36*N36+O36*P36) | V36: =IF(A36="","",G36*D36*E36) | W36: =IF(A36="","",IF(OR(D36<=0,E36<=0,MIN(F36,H36,I36,J36,K36,L36,M36,N36,O36,P36)<0),"FEHLER: Masse",IF(OR(ISNA(MATCH(Q36,Regeln!$E$3:$E$6,0)),ISNA(MATCH(R36,Regeln!$I$3:$I$7,0)),ISNA(MATCH(S36,Regeln!$P$3:$P$5,0))),"FEHLER: Regel fehlt",IF(AND(I36>0,OR(I36>=F36,J36<=0,J36>E36)),"FEHLER: Schraege",IF(ROUND(U36-T36,9)>0,"FEHLER: Oeffnungen > Wand",IF(ROUND(H36-V36,9)>0,"FEHLER: Abzug > Boden",IF(ROUND(T36-U36+V36-H36,9)<=0,"FEHLER: keine Flaeche","OK"))))))) | X36: =IF(A36="",0,IF(W36="OK",0,1)) | Y36: =IF(W36<>"OK","",ROUND(T36-U36+V36-H36,9)) | Z36: =IF(W36<>"OK","",VLOOKUP(Q36,Regeln!$E$3:$G$6,2,FALSE)+IF(I36>0,Regeln!$B$8,0)) | AA36: =IF(W36<>"OK","",Y36*(1+Z36)) | AB36: =IF(W36<>"OK","",ROUNDUP(ROUND(AA36*VLOOKUP(R36,Regeln!$I$3:$N$7,2,FALSE),9),0)) | AC36: =IF(W36<>"OK","",ROUNDUP(ROUND(AB36/VLOOKUP(R36,Regeln!$I$3:$N$7,3,FALSE),9),0)) | AD36: =IF(W36<>"OK","",AC36*VLOOKUP(R36,Regeln!$I$3:$N$7,4,FALSE)) | AE36: =IF(W36<>"OK","",ROUNDUP(ROUND(Y36*VLOOKUP(R36,Regeln!$I$3:$N$7,5,FALSE)/Regeln!$B$9,9),0)) | AF36: =IF(W36<>"OK","",AE36*Regeln!$B$10) | AG36: =IF(W36<>"OK","",ROUNDUP(ROUND(Y36*VLOOKUP(R36,Regeln!$I$3:$N$7,6,FALSE)/Regeln!$B$11,9),0)) | AH36: =IF(W36<>"OK","",AG36*Regeln!$B$12) | AI36: =IF(W36<>"OK","",ROUND(ROUND((AD36+AF36+AH36)*100,7),0)/100) | AJ36: =IF(W36<>"OK","",ROUND(ROUND((Y36*VLOOKUP(S36,Regeln!$P$3:$Q$5,2,FALSE)*VLOOKUP(Q36,Regeln!$E$3:$G$6,3,FALSE))*100,7),0)/100) | AK36: =IF(W36<>"OK","",ROUND(ROUND((AJ36*Regeln!$B$3)*100,7),0)/100)
T37: =IF(A37="","",IF(I37>0,D37*F37+D37*I37+2*(E37*F37-J37*(F37-I37)/2),2*(D37+E37)*F37)) | U37: =IF(A37="","",K37*L37+M37*N37+O37*P37) | V37: =IF(A37="","",G37*D37*E37) | W37: =IF(A37="","",IF(OR(D37<=0,E37<=0,MIN(F37,H37,I37,J37,K37,L37,M37,N37,O37,P37)<0),"FEHLER: Masse",IF(OR(ISNA(MATCH(Q37,Regeln!$E$3:$E$6,0)),ISNA(MATCH(R37,Regeln!$I$3:$I$7,0)),ISNA(MATCH(S37,Regeln!$P$3:$P$5,0))),"FEHLER: Regel fehlt",IF(AND(I37>0,OR(I37>=F37,J37<=0,J37>E37)),"FEHLER: Schraege",IF(ROUND(U37-T37,9)>0,"FEHLER: Oeffnungen > Wand",IF(ROUND(H37-V37,9)>0,"FEHLER: Abzug > Boden",IF(ROUND(T37-U37+V37-H37,9)<=0,"FEHLER: keine Flaeche","OK"))))))) | X37: =IF(A37="",0,IF(W37="OK",0,1)) | Y37: =IF(W37<>"OK","",ROUND(T37-U37+V37-H37,9)) | Z37: =IF(W37<>"OK","",VLOOKUP(Q37,Regeln!$E$3:$G$6,2,FALSE)+IF(I37>0,Regeln!$B$8,0)) | AA37: =IF(W37<>"OK","",Y37*(1+Z37)) | AB37: =IF(W37<>"OK","",ROUNDUP(ROUND(AA37*VLOOKUP(R37,Regeln!$I$3:$N$7,2,FALSE),9),0)) | AC37: =IF(W37<>"OK","",ROUNDUP(ROUND(AB37/VLOOKUP(R37,Regeln!$I$3:$N$7,3,FALSE),9),0)) | AD37: =IF(W37<>"OK","",AC37*VLOOKUP(R37,Regeln!$I$3:$N$7,4,FALSE)) | AE37: =IF(W37<>"OK","",ROUNDUP(ROUND(Y37*VLOOKUP(R37,Regeln!$I$3:$N$7,5,FALSE)/Regeln!$B$9,9),0)) | AF37: =IF(W37<>"OK","",AE37*Regeln!$B$10) | AG37: =IF(W37<>"OK","",ROUNDUP(ROUND(Y37*VLOOKUP(R37,Regeln!$I$3:$N$7,6,FALSE)/Regeln!$B$11,9),0)) | AH37: =IF(W37<>"OK","",AG37*Regeln!$B$12) | AI37: =IF(W37<>"OK","",ROUND(ROUND((AD37+AF37+AH37)*100,7),0)/100) | AJ37: =IF(W37<>"OK","",ROUND(ROUND((Y37*VLOOKUP(S37,Regeln!$P$3:$Q$5,2,FALSE)*VLOOKUP(Q37,Regeln!$E$3:$G$6,3,FALSE))*100,7),0)/100) | AK37: =IF(W37<>"OK","",ROUND(ROUND((AJ37*Regeln!$B$3)*100,7),0)/100)
T38: =IF(A38="","",IF(I38>0,D38*F38+D38*I38+2*(E38*F38-J38*(F38-I38)/2),2*(D38+E38)*F38)) | U38: =IF(A38="","",K38*L38+M38*N38+O38*P38) | V38: =IF(A38="","",G38*D38*E38) | W38: =IF(A38="","",IF(OR(D38<=0,E38<=0,MIN(F38,H38,I38,J38,K38,L38,M38,N38,O38,P38)<0),"FEHLER: Masse",IF(OR(ISNA(MATCH(Q38,Regeln!$E$3:$E$6,0)),ISNA(MATCH(R38,Regeln!$I$3:$I$7,0)),ISNA(MATCH(S38,Regeln!$P$3:$P$5,0))),"FEHLER: Regel fehlt",IF(AND(I38>0,OR(I38>=F38,J38<=0,J38>E38)),"FEHLER: Schraege",IF(ROUND(U38-T38,9)>0,"FEHLER: Oeffnungen > Wand",IF(ROUND(H38-V38,9)>0,"FEHLER: Abzug > Boden",IF(ROUND(T38-U38+V38-H38,9)<=0,"FEHLER: keine Flaeche","OK"))))))) | X38: =IF(A38="",0,IF(W38="OK",0,1)) | Y38: =IF(W38<>"OK","",ROUND(T38-U38+V38-H38,9)) | Z38: =IF(W38<>"OK","",VLOOKUP(Q38,Regeln!$E$3:$G$6,2,FALSE)+IF(I38>0,Regeln!$B$8,0)) | AA38: =IF(W38<>"OK","",Y38*(1+Z38)) | AB38: =IF(W38<>"OK","",ROUNDUP(ROUND(AA38*VLOOKUP(R38,Regeln!$I$3:$N$7,2,FALSE),9),0)) | AC38: =IF(W38<>"OK","",ROUNDUP(ROUND(AB38/VLOOKUP(R38,Regeln!$I$3:$N$7,3,FALSE),9),0)) | AD38: =IF(W38<>"OK","",AC38*VLOOKUP(R38,Regeln!$I$3:$N$7,4,FALSE)) | AE38: =IF(W38<>"OK","",ROUNDUP(ROUND(Y38*VLOOKUP(R38,Regeln!$I$3:$N$7,5,FALSE)/Regeln!$B$9,9),0)) | AF38: =IF(W38<>"OK","",AE38*Regeln!$B$10) | AG38: =IF(W38<>"OK","",ROUNDUP(ROUND(Y38*VLOOKUP(R38,Regeln!$I$3:$N$7,6,FALSE)/Regeln!$B$11,9),0)) | AH38: =IF(W38<>"OK","",AG38*Regeln!$B$12) | AI38: =IF(W38<>"OK","",ROUND(ROUND((AD38+AF38+AH38)*100,7),0)/100) | AJ38: =IF(W38<>"OK","",ROUND(ROUND((Y38*VLOOKUP(S38,Regeln!$P$3:$Q$5,2,FALSE)*VLOOKUP(Q38,Regeln!$E$3:$G$6,3,FALSE))*100,7),0)/100) | AK38: =IF(W38<>"OK","",ROUND(ROUND((AJ38*Regeln!$B$3)*100,7),0)/100)
T39: =IF(A39="","",IF(I39>0,D39*F39+D39*I39+2*(E39*F39-J39*(F39-I39)/2),2*(D39+E39)*F39)) | U39: =IF(A39="","",K39*L39+M39*N39+O39*P39) | V39: =IF(A39="","",G39*D39*E39) | W39: =IF(A39="","",IF(OR(D39<=0,E39<=0,MIN(F39,H39,I39,J39,K39,L39,M39,N39,O39,P39)<0),"FEHLER: Masse",IF(OR(ISNA(MATCH(Q39,Regeln!$E$3:$E$6,0)),ISNA(MATCH(R39,Regeln!$I$3:$I$7,0)),ISNA(MATCH(S39,Regeln!$P$3:$P$5,0))),"FEHLER: Regel fehlt",IF(AND(I39>0,OR(I39>=F39,J39<=0,J39>E39)),"FEHLER: Schraege",IF(ROUND(U39-T39,9)>0,"FEHLER: Oeffnungen > Wand",IF(ROUND(H39-V39,9)>0,"FEHLER: Abzug > Boden",IF(ROUND(T39-U39+V39-H39,9)<=0,"FEHLER: keine Flaeche","OK"))))))) | X39: =IF(A39="",0,IF(W39="OK",0,1)) | Y39: =IF(W39<>"OK","",ROUND(T39-U39+V39-H39,9)) | Z39: =IF(W39<>"OK","",VLOOKUP(Q39,Regeln!$E$3:$G$6,2,FALSE)+IF(I39>0,Regeln!$B$8,0)) | AA39: =IF(W39<>"OK","",Y39*(1+Z39)) | AB39: =IF(W39<>"OK","",ROUNDUP(ROUND(AA39*VLOOKUP(R39,Regeln!$I$3:$N$7,2,FALSE),9),0)) | AC39: =IF(W39<>"OK","",ROUNDUP(ROUND(AB39/VLOOKUP(R39,Regeln!$I$3:$N$7,3,FALSE),9),0)) | AD39: =IF(W39<>"OK","",AC39*VLOOKUP(R39,Regeln!$I$3:$N$7,4,FALSE)) | AE39: =IF(W39<>"OK","",ROUNDUP(ROUND(Y39*VLOOKUP(R39,Regeln!$I$3:$N$7,5,FALSE)/Regeln!$B$9,9),0)) | AF39: =IF(W39<>"OK","",AE39*Regeln!$B$10) | AG39: =IF(W39<>"OK","",ROUNDUP(ROUND(Y39*VLOOKUP(R39,Regeln!$I$3:$N$7,6,FALSE)/Regeln!$B$11,9),0)) | AH39: =IF(W39<>"OK","",AG39*Regeln!$B$12) | AI39: =IF(W39<>"OK","",ROUND(ROUND((AD39+AF39+AH39)*100,7),0)/100) | AJ39: =IF(W39<>"OK","",ROUND(ROUND((Y39*VLOOKUP(S39,Regeln!$P$3:$Q$5,2,FALSE)*VLOOKUP(Q39,Regeln!$E$3:$G$6,3,FALSE))*100,7),0)/100) | AK39: =IF(W39<>"OK","",ROUND(ROUND((AJ39*Regeln!$B$3)*100,7),0)/100)
T40: =IF(A40="","",IF(I40>0,D40*F40+D40*I40+2*(E40*F40-J40*(F40-I40)/2),2*(D40+E40)*F40)) | U40: =IF(A40="","",K40*L40+M40*N40+O40*P40) | V40: =IF(A40="","",G40*D40*E40) | W40: =IF(A40="","",IF(OR(D40<=0,E40<=0,MIN(F40,H40,I40,J40,K40,L40,M40,N40,O40,P40)<0),"FEHLER: Masse",IF(OR(ISNA(MATCH(Q40,Regeln!$E$3:$E$6,0)),ISNA(MATCH(R40,Regeln!$I$3:$I$7,0)),ISNA(MATCH(S40,Regeln!$P$3:$P$5,0))),"FEHLER: Regel fehlt",IF(AND(I40>0,OR(I40>=F40,J40<=0,J40>E40)),"FEHLER: Schraege",IF(ROUND(U40-T40,9)>0,"FEHLER: Oeffnungen > Wand",IF(ROUND(H40-V40,9)>0,"FEHLER: Abzug > Boden",IF(ROUND(T40-U40+V40-H40,9)<=0,"FEHLER: keine Flaeche","OK"))))))) | X40: =IF(A40="",0,IF(W40="OK",0,1)) | Y40: =IF(W40<>"OK","",ROUND(T40-U40+V40-H40,9)) | Z40: =IF(W40<>"OK","",VLOOKUP(Q40,Regeln!$E$3:$G$6,2,FALSE)+IF(I40>0,Regeln!$B$8,0)) | AA40: =IF(W40<>"OK","",Y40*(1+Z40)) | AB40: =IF(W40<>"OK","",ROUNDUP(ROUND(AA40*VLOOKUP(R40,Regeln!$I$3:$N$7,2,FALSE),9),0)) | AC40: =IF(W40<>"OK","",ROUNDUP(ROUND(AB40/VLOOKUP(R40,Regeln!$I$3:$N$7,3,FALSE),9),0)) | AD40: =IF(W40<>"OK","",AC40*VLOOKUP(R40,Regeln!$I$3:$N$7,4,FALSE)) | AE40: =IF(W40<>"OK","",ROUNDUP(ROUND(Y40*VLOOKUP(R40,Regeln!$I$3:$N$7,5,FALSE)/Regeln!$B$9,9),0)) | AF40: =IF(W40<>"OK","",AE40*Regeln!$B$10) | AG40: =IF(W40<>"OK","",ROUNDUP(ROUND(Y40*VLOOKUP(R40,Regeln!$I$3:$N$7,6,FALSE)/Regeln!$B$11,9),0)) | AH40: =IF(W40<>"OK","",AG40*Regeln!$B$12) | AI40: =IF(W40<>"OK","",ROUND(ROUND((AD40+AF40+AH40)*100,7),0)/100) | AJ40: =IF(W40<>"OK","",ROUND(ROUND((Y40*VLOOKUP(S40,Regeln!$P$3:$Q$5,2,FALSE)*VLOOKUP(Q40,Regeln!$E$3:$G$6,3,FALSE))*100,7),0)/100) | AK40: =IF(W40<>"OK","",ROUND(ROUND((AJ40*Regeln!$B$3)*100,7),0)/100)
T41: =IF(A41="","",IF(I41>0,D41*F41+D41*I41+2*(E41*F41-J41*(F41-I41)/2),2*(D41+E41)*F41)) | U41: =IF(A41="","",K41*L41+M41*N41+O41*P41) | V41: =IF(A41="","",G41*D41*E41) | W41: =IF(A41="","",IF(OR(D41<=0,E41<=0,MIN(F41,H41,I41,J41,K41,L41,M41,N41,O41,P41)<0),"FEHLER: Masse",IF(OR(ISNA(MATCH(Q41,Regeln!$E$3:$E$6,0)),ISNA(MATCH(R41,Regeln!$I$3:$I$7,0)),ISNA(MATCH(S41,Regeln!$P$3:$P$5,0))),"FEHLER: Regel fehlt",IF(AND(I41>0,OR(I41>=F41,J41<=0,J41>E41)),"FEHLER: Schraege",IF(ROUND(U41-T41,9)>0,"FEHLER: Oeffnungen > Wand",IF(ROUND(H41-V41,9)>0,"FEHLER: Abzug > Boden",IF(ROUND(T41-U41+V41-H41,9)<=0,"FEHLER: keine Flaeche","OK"))))))) | X41: =IF(A41="",0,IF(W41="OK",0,1)) | Y41: =IF(W41<>"OK","",ROUND(T41-U41+V41-H41,9)) | Z41: =IF(W41<>"OK","",VLOOKUP(Q41,Regeln!$E$3:$G$6,2,FALSE)+IF(I41>0,Regeln!$B$8,0)) | AA41: =IF(W41<>"OK","",Y41*(1+Z41)) | AB41: =IF(W41<>"OK","",ROUNDUP(ROUND(AA41*VLOOKUP(R41,Regeln!$I$3:$N$7,2,FALSE),9),0)) | AC41: =IF(W41<>"OK","",ROUNDUP(ROUND(AB41/VLOOKUP(R41,Regeln!$I$3:$N$7,3,FALSE),9),0)) | AD41: =IF(W41<>"OK","",AC41*VLOOKUP(R41,Regeln!$I$3:$N$7,4,FALSE)) | AE41: =IF(W41<>"OK","",ROUNDUP(ROUND(Y41*VLOOKUP(R41,Regeln!$I$3:$N$7,5,FALSE)/Regeln!$B$9,9),0)) | AF41: =IF(W41<>"OK","",AE41*Regeln!$B$10) | AG41: =IF(W41<>"OK","",ROUNDUP(ROUND(Y41*VLOOKUP(R41,Regeln!$I$3:$N$7,6,FALSE)/Regeln!$B$11,9),0)) | AH41: =IF(W41<>"OK","",AG41*Regeln!$B$12) | AI41: =IF(W41<>"OK","",ROUND(ROUND((AD41+AF41+AH41)*100,7),0)/100) | AJ41: =IF(W41<>"OK","",ROUND(ROUND((Y41*VLOOKUP(S41,Regeln!$P$3:$Q$5,2,FALSE)*VLOOKUP(Q41,Regeln!$E$3:$G$6,3,FALSE))*100,7),0)/100) | AK41: =IF(W41<>"OK","",ROUND(ROUND((AJ41*Regeln!$B$3)*100,7),0)/100)
T42: =IF(A42="","",IF(I42>0,D42*F42+D42*I42+2*(E42*F42-J42*(F42-I42)/2),2*(D42+E42)*F42)) | U42: =IF(A42="","",K42*L42+M42*N42+O42*P42) | V42: =IF(A42="","",G42*D42*E42) | W42: =IF(A42="","",IF(OR(D42<=0,E42<=0,MIN(F42,H42,I42,J42,K42,L42,M42,N42,O42,P42)<0),"FEHLER: Masse",IF(OR(ISNA(MATCH(Q42,Regeln!$E$3:$E$6,0)),ISNA(MATCH(R42,Regeln!$I$3:$I$7,0)),ISNA(MATCH(S42,Regeln!$P$3:$P$5,0))),"FEHLER: Regel fehlt",IF(AND(I42>0,OR(I42>=F42,J42<=0,J42>E42)),"FEHLER: Schraege",IF(ROUND(U42-T42,9)>0,"FEHLER: Oeffnungen > Wand",IF(ROUND(H42-V42,9)>0,"FEHLER: Abzug > Boden",IF(ROUND(T42-U42+V42-H42,9)<=0,"FEHLER: keine Flaeche","OK"))))))) | X42: =IF(A42="",0,IF(W42="OK",0,1)) | Y42: =IF(W42<>"OK","",ROUND(T42-U42+V42-H42,9)) | Z42: =IF(W42<>"OK","",VLOOKUP(Q42,Regeln!$E$3:$G$6,2,FALSE)+IF(I42>0,Regeln!$B$8,0)) | AA42: =IF(W42<>"OK","",Y42*(1+Z42)) | AB42: =IF(W42<>"OK","",ROUNDUP(ROUND(AA42*VLOOKUP(R42,Regeln!$I$3:$N$7,2,FALSE),9),0)) | AC42: =IF(W42<>"OK","",ROUNDUP(ROUND(AB42/VLOOKUP(R42,Regeln!$I$3:$N$7,3,FALSE),9),0)) | AD42: =IF(W42<>"OK","",AC42*VLOOKUP(R42,Regeln!$I$3:$N$7,4,FALSE)) | AE42: =IF(W42<>"OK","",ROUNDUP(ROUND(Y42*VLOOKUP(R42,Regeln!$I$3:$N$7,5,FALSE)/Regeln!$B$9,9),0)) | AF42: =IF(W42<>"OK","",AE42*Regeln!$B$10) | AG42: =IF(W42<>"OK","",ROUNDUP(ROUND(Y42*VLOOKUP(R42,Regeln!$I$3:$N$7,6,FALSE)/Regeln!$B$11,9),0)) | AH42: =IF(W42<>"OK","",AG42*Regeln!$B$12) | AI42: =IF(W42<>"OK","",ROUND(ROUND((AD42+AF42+AH42)*100,7),0)/100) | AJ42: =IF(W42<>"OK","",ROUND(ROUND((Y42*VLOOKUP(S42,Regeln!$P$3:$Q$5,2,FALSE)*VLOOKUP(Q42,Regeln!$E$3:$G$6,3,FALSE))*100,7),0)/100) | AK42: =IF(W42<>"OK","",ROUND(ROUND((AJ42*Regeln!$B$3)*100,7),0)/100)
T43: =IF(A43="","",IF(I43>0,D43*F43+D43*I43+2*(E43*F43-J43*(F43-I43)/2),2*(D43+E43)*F43)) | U43: =IF(A43="","",K43*L43+M43*N43+O43*P43) | V43: =IF(A43="","",G43*D43*E43) | W43: =IF(A43="","",IF(OR(D43<=0,E43<=0,MIN(F43,H43,I43,J43,K43,L43,M43,N43,O43,P43)<0),"FEHLER: Masse",IF(OR(ISNA(MATCH(Q43,Regeln!$E$3:$E$6,0)),ISNA(MATCH(R43,Regeln!$I$3:$I$7,0)),ISNA(MATCH(S43,Regeln!$P$3:$P$5,0))),"FEHLER: Regel fehlt",IF(AND(I43>0,OR(I43>=F43,J43<=0,J43>E43)),"FEHLER: Schraege",IF(ROUND(U43-T43,9)>0,"FEHLER: Oeffnungen > Wand",IF(ROUND(H43-V43,9)>0,"FEHLER: Abzug > Boden",IF(ROUND(T43-U43+V43-H43,9)<=0,"FEHLER: keine Flaeche","OK"))))))) | X43: =IF(A43="",0,IF(W43="OK",0,1)) | Y43: =IF(W43<>"OK","",ROUND(T43-U43+V43-H43,9)) | Z43: =IF(W43<>"OK","",VLOOKUP(Q43,Regeln!$E$3:$G$6,2,FALSE)+IF(I43>0,Regeln!$B$8,0)) | AA43: =IF(W43<>"OK","",Y43*(1+Z43)) | AB43: =IF(W43<>"OK","",ROUNDUP(ROUND(AA43*VLOOKUP(R43,Regeln!$I$3:$N$7,2,FALSE),9),0)) | AC43: =IF(W43<>"OK","",ROUNDUP(ROUND(AB43/VLOOKUP(R43,Regeln!$I$3:$N$7,3,FALSE),9),0)) | AD43: =IF(W43<>"OK","",AC43*VLOOKUP(R43,Regeln!$I$3:$N$7,4,FALSE)) | AE43: =IF(W43<>"OK","",ROUNDUP(ROUND(Y43*VLOOKUP(R43,Regeln!$I$3:$N$7,5,FALSE)/Regeln!$B$9,9),0)) | AF43: =IF(W43<>"OK","",AE43*Regeln!$B$10) | AG43: =IF(W43<>"OK","",ROUNDUP(ROUND(Y43*VLOOKUP(R43,Regeln!$I$3:$N$7,6,FALSE)/Regeln!$B$11,9),0)) | AH43: =IF(W43<>"OK","",AG43*Regeln!$B$12) | AI43: =IF(W43<>"OK","",ROUND(ROUND((AD43+AF43+AH43)*100,7),0)/100) | AJ43: =IF(W43<>"OK","",ROUND(ROUND((Y43*VLOOKUP(S43,Regeln!$P$3:$Q$5,2,FALSE)*VLOOKUP(Q43,Regeln!$E$3:$G$6,3,FALSE))*100,7),0)/100) | AK43: =IF(W43<>"OK","",ROUND(ROUND((AJ43*Regeln!$B$3)*100,7),0)/100)
T44: =IF(A44="","",IF(I44>0,D44*F44+D44*I44+2*(E44*F44-J44*(F44-I44)/2),2*(D44+E44)*F44)) | U44: =IF(A44="","",K44*L44+M44*N44+O44*P44) | V44: =IF(A44="","",G44*D44*E44) | W44: =IF(A44="","",IF(OR(D44<=0,E44<=0,MIN(F44,H44,I44,J44,K44,L44,M44,N44,O44,P44)<0),"FEHLER: Masse",IF(OR(ISNA(MATCH(Q44,Regeln!$E$3:$E$6,0)),ISNA(MATCH(R44,Regeln!$I$3:$I$7,0)),ISNA(MATCH(S44,Regeln!$P$3:$P$5,0))),"FEHLER: Regel fehlt",IF(AND(I44>0,OR(I44>=F44,J44<=0,J44>E44)),"FEHLER: Schraege",IF(ROUND(U44-T44,9)>0,"FEHLER: Oeffnungen > Wand",IF(ROUND(H44-V44,9)>0,"FEHLER: Abzug > Boden",IF(ROUND(T44-U44+V44-H44,9)<=0,"FEHLER: keine Flaeche","OK"))))))) | X44: =IF(A44="",0,IF(W44="OK",0,1)) | Y44: =IF(W44<>"OK","",ROUND(T44-U44+V44-H44,9)) | Z44: =IF(W44<>"OK","",VLOOKUP(Q44,Regeln!$E$3:$G$6,2,FALSE)+IF(I44>0,Regeln!$B$8,0)) | AA44: =IF(W44<>"OK","",Y44*(1+Z44)) | AB44: =IF(W44<>"OK","",ROUNDUP(ROUND(AA44*VLOOKUP(R44,Regeln!$I$3:$N$7,2,FALSE),9),0)) | AC44: =IF(W44<>"OK","",ROUNDUP(ROUND(AB44/VLOOKUP(R44,Regeln!$I$3:$N$7,3,FALSE),9),0)) | AD44: =IF(W44<>"OK","",AC44*VLOOKUP(R44,Regeln!$I$3:$N$7,4,FALSE)) | AE44: =IF(W44<>"OK","",ROUNDUP(ROUND(Y44*VLOOKUP(R44,Regeln!$I$3:$N$7,5,FALSE)/Regeln!$B$9,9),0)) | AF44: =IF(W44<>"OK","",AE44*Regeln!$B$10) | AG44: =IF(W44<>"OK","",ROUNDUP(ROUND(Y44*VLOOKUP(R44,Regeln!$I$3:$N$7,6,FALSE)/Regeln!$B$11,9),0)) | AH44: =IF(W44<>"OK","",AG44*Regeln!$B$12) | AI44: =IF(W44<>"OK","",ROUND(ROUND((AD44+AF44+AH44)*100,7),0)/100) | AJ44: =IF(W44<>"OK","",ROUND(ROUND((Y44*VLOOKUP(S44,Regeln!$P$3:$Q$5,2,FALSE)*VLOOKUP(Q44,Regeln!$E$3:$G$6,3,FALSE))*100,7),0)/100) | AK44: =IF(W44<>"OK","",ROUND(ROUND((AJ44*Regeln!$B$3)*100,7),0)/100)
T45: =IF(A45="","",IF(I45>0,D45*F45+D45*I45+2*(E45*F45-J45*(F45-I45)/2),2*(D45+E45)*F45)) | U45: =IF(A45="","",K45*L45+M45*N45+O45*P45) | V45: =IF(A45="","",G45*D45*E45) | W45: =IF(A45="","",IF(OR(D45<=0,E45<=0,MIN(F45,H45,I45,J45,K45,L45,M45,N45,O45,P45)<0),"FEHLER: Masse",IF(OR(ISNA(MATCH(Q45,Regeln!$E$3:$E$6,0)),ISNA(MATCH(R45,Regeln!$I$3:$I$7,0)),ISNA(MATCH(S45,Regeln!$P$3:$P$5,0))),"FEHLER: Regel fehlt",IF(AND(I45>0,OR(I45>=F45,J45<=0,J45>E45)),"FEHLER: Schraege",IF(ROUND(U45-T45,9)>0,"FEHLER: Oeffnungen > Wand",IF(ROUND(H45-V45,9)>0,"FEHLER: Abzug > Boden",IF(ROUND(T45-U45+V45-H45,9)<=0,"FEHLER: keine Flaeche","OK"))))))) | X45: =IF(A45="",0,IF(W45="OK",0,1)) | Y45: =IF(W45<>"OK","",ROUND(T45-U45+V45-H45,9)) | Z45: =IF(W45<>"OK","",VLOOKUP(Q45,Regeln!$E$3:$G$6,2,FALSE)+IF(I45>0,Regeln!$B$8,0)) | AA45: =IF(W45<>"OK","",Y45*(1+Z45)) | AB45: =IF(W45<>"OK","",ROUNDUP(ROUND(AA45*VLOOKUP(R45,Regeln!$I$3:$N$7,2,FALSE),9),0)) | AC45: =IF(W45<>"OK","",ROUNDUP(ROUND(AB45/VLOOKUP(R45,Regeln!$I$3:$N$7,3,FALSE),9),0)) | AD45: =IF(W45<>"OK","",AC45*VLOOKUP(R45,Regeln!$I$3:$N$7,4,FALSE)) | AE45: =IF(W45<>"OK","",ROUNDUP(ROUND(Y45*VLOOKUP(R45,Regeln!$I$3:$N$7,5,FALSE)/Regeln!$B$9,9),0)) | AF45: =IF(W45<>"OK","",AE45*Regeln!$B$10) | AG45: =IF(W45<>"OK","",ROUNDUP(ROUND(Y45*VLOOKUP(R45,Regeln!$I$3:$N$7,6,FALSE)/Regeln!$B$11,9),0)) | AH45: =IF(W45<>"OK","",AG45*Regeln!$B$12) | AI45: =IF(W45<>"OK","",ROUND(ROUND((AD45+AF45+AH45)*100,7),0)/100) | AJ45: =IF(W45<>"OK","",ROUND(ROUND((Y45*VLOOKUP(S45,Regeln!$P$3:$Q$5,2,FALSE)*VLOOKUP(Q45,Regeln!$E$3:$G$6,3,FALSE))*100,7),0)/100) | AK45: =IF(W45<>"OK","",ROUND(ROUND((AJ45*Regeln!$B$3)*100,7),0)/100)
T46: =IF(A46="","",IF(I46>0,D46*F46+D46*I46+2*(E46*F46-J46*(F46-I46)/2),2*(D46+E46)*F46)) | U46: =IF(A46="","",K46*L46+M46*N46+O46*P46) | V46: =IF(A46="","",G46*D46*E46) | W46: =IF(A46="","",IF(OR(D46<=0,E46<=0,MIN(F46,H46,I46,J46,K46,L46,M46,N46,O46,P46)<0),"FEHLER: Masse",IF(OR(ISNA(MATCH(Q46,Regeln!$E$3:$E$6,0)),ISNA(MATCH(R46,Regeln!$I$3:$I$7,0)),ISNA(MATCH(S46,Regeln!$P$3:$P$5,0))),"FEHLER: Regel fehlt",IF(AND(I46>0,OR(I46>=F46,J46<=0,J46>E46)),"FEHLER: Schraege",IF(ROUND(U46-T46,9)>0,"FEHLER: Oeffnungen > Wand",IF(ROUND(H46-V46,9)>0,"FEHLER: Abzug > Boden",IF(ROUND(T46-U46+V46-H46,9)<=0,"FEHLER: keine Flaeche","OK"))))))) | X46: =IF(A46="",0,IF(W46="OK",0,1)) | Y46: =IF(W46<>"OK","",ROUND(T46-U46+V46-H46,9)) | Z46: =IF(W46<>"OK","",VLOOKUP(Q46,Regeln!$E$3:$G$6,2,FALSE)+IF(I46>0,Regeln!$B$8,0)) | AA46: =IF(W46<>"OK","",Y46*(1+Z46)) | AB46: =IF(W46<>"OK","",ROUNDUP(ROUND(AA46*VLOOKUP(R46,Regeln!$I$3:$N$7,2,FALSE),9),0)) | AC46: =IF(W46<>"OK","",ROUNDUP(ROUND(AB46/VLOOKUP(R46,Regeln!$I$3:$N$7,3,FALSE),9),0)) | AD46: =IF(W46<>"OK","",AC46*VLOOKUP(R46,Regeln!$I$3:$N$7,4,FALSE)) | AE46: =IF(W46<>"OK","",ROUNDUP(ROUND(Y46*VLOOKUP(R46,Regeln!$I$3:$N$7,5,FALSE)/Regeln!$B$9,9),0)) | AF46: =IF(W46<>"OK","",AE46*Regeln!$B$10) | AG46: =IF(W46<>"OK","",ROUNDUP(ROUND(Y46*VLOOKUP(R46,Regeln!$I$3:$N$7,6,FALSE)/Regeln!$B$11,9),0)) | AH46: =IF(W46<>"OK","",AG46*Regeln!$B$12) | AI46: =IF(W46<>"OK","",ROUND(ROUND((AD46+AF46+AH46)*100,7),0)/100) | AJ46: =IF(W46<>"OK","",ROUND(ROUND((Y46*VLOOKUP(S46,Regeln!$P$3:$Q$5,2,FALSE)*VLOOKUP(Q46,Regeln!$E$3:$G$6,3,FALSE))*100,7),0)/100) | AK46: =IF(W46<>"OK","",ROUND(ROUND((AJ46*Regeln!$B$3)*100,7),0)/100)

Sheet Auftraege
A1: Auftrag | B1: Kunde | C1: Entfernung km | D1: Raeume | E1: Pruefung | F1: Flaeche m2 | G1: Material EUR | H1: Lohn EUR | I1: Anfahrt EUR | J1: Kleinmengenzuschlag EUR | K1: Rabattsatz | L1: Rabatt EUR | M1: Netto EUR | N1: MwSt EUR | O1: Brutto EUR
A2: A-01 | B2: Familie Brandt | C2: 12 | D2: =IF(A2="","",COUNTIF(Raeume!$B$2:$B$46,A2)) | E2: =IF(A2="","",IF(D2=0,"FEHLER: keine Raeume",IF(SUMIF(Raeume!$B$2:$B$46,A2,Raeume!$X$2:$X$46)>0,"FEHLER: Raum fehlerhaft","OK"))) | F2: =IF(E2<>"OK","",SUMIF(Raeume!$B$2:$B$46,A2,Raeume!$Y$2:$Y$46)) | G2: =IF(E2<>"OK","",ROUND(ROUND((SUMIF(Raeume!$B$2:$B$46,A2,Raeume!$AI$2:$AI$46))*100,7),0)/100) | H2: =IF(E2<>"OK","",ROUND(ROUND((SUMIF(Raeume!$B$2:$B$46,A2,Raeume!$AK$2:$AK$46))*100,7),0)/100) | I2: =IF(E2<>"OK","",ROUND(ROUND((Regeln!$B$4+C2*2*Regeln!$B$5)*100,7),0)/100) | J2: =IF(E2<>"OK","",IF(ROUND(F2,9)<Regeln!$B$6,Regeln!$B$7,0)) | K2: =IF(E2<>"OK","",VLOOKUP(ROUND(ROUND((G2+H2)*100,7),0)/100,Regeln!$S$3:$T$6,2,TRUE)) | L2: =IF(E2<>"OK","",ROUND(ROUND(((G2+H2)*K2)*100,7),0)/100) | M2: =IF(E2<>"OK","",ROUND(ROUND((G2+H2+I2+J2-L2)*100,7),0)/100) | N2: =IF(E2<>"OK","",ROUND(ROUND((M2*Regeln!$B$13)*100,7),0)/100) | O2: =IF(E2<>"OK","",ROUND(ROUND((M2+N2)*100,7),0)/100)
A3: A-02 | B3: H. Oezdemir (Dachgeschoss) | C3: 35 | D3: =IF(A3="","",COUNTIF(Raeume!$B$2:$B$46,A3)) | E3: =IF(A3="","",IF(D3=0,"FEHLER: keine Raeume",IF(SUMIF(Raeume!$B$2:$B$46,A3,Raeume!$X$2:$X$46)>0,"FEHLER: Raum fehlerhaft","OK"))) | F3: =IF(E3<>"OK","",SUMIF(Raeume!$B$2:$B$46,A3,Raeume!$Y$2:$Y$46)) | G3: =IF(E3<>"OK","",ROUND(ROUND((SUMIF(Raeume!$B$2:$B$46,A3,Raeume!$AI$2:$AI$46))*100,7),0)/100) | H3: =IF(E3<>"OK","",ROUND(ROUND((SUMIF(Raeume!$B$2:$B$46,A3,Raeume!$AK$2:$AK$46))*100,7),0)/100) | I3: =IF(E3<>"OK","",ROUND(ROUND((Regeln!$B$4+C3*2*Regeln!$B$5)*100,7),0)/100) | J3: =IF(E3<>"OK","",IF(ROUND(F3,9)<Regeln!$B$6,Regeln!$B$7,0)) | K3: =IF(E3<>"OK","",VLOOKUP(ROUND(ROUND((G3+H3)*100,7),0)/100,Regeln!$S$3:$T$6,2,TRUE)) | L3: =IF(E3<>"OK","",ROUND(ROUND(((G3+H3)*K3)*100,7),0)/100) | M3: =IF(E3<>"OK","",ROUND(ROUND((G3+H3+I3+J3-L3)*100,7),0)/100) | N3: =IF(E3<>"OK","",ROUND(ROUND((M3*Regeln!$B$13)*100,7),0)/100) | O3: =IF(E3<>"OK","",ROUND(ROUND((M3+N3)*100,7),0)/100)
A4: A-03 | B4: Kunde A-03 | C4: 14 | D4: =IF(A4="","",COUNTIF(Raeume!$B$2:$B$46,A4)) | E4: =IF(A4="","",IF(D4=0,"FEHLER: keine Raeume",IF(SUMIF(Raeume!$B$2:$B$46,A4,Raeume!$X$2:$X$46)>0,"FEHLER: Raum fehlerhaft","OK"))) | F4: =IF(E4<>"OK","",SUMIF(Raeume!$B$2:$B$46,A4,Raeume!$Y$2:$Y$46)) | G4: =IF(E4<>"OK","",ROUND(ROUND((SUMIF(Raeume!$B$2:$B$46,A4,Raeume!$AI$2:$AI$46))*100,7),0)/100) | H4: =IF(E4<>"OK","",ROUND(ROUND((SUMIF(Raeume!$B$2:$B$46,A4,Raeume!$AK$2:$AK$46))*100,7),0)/100) | I4: =IF(E4<>"OK","",ROUND(ROUND((Regeln!$B$4+C4*2*Regeln!$B$5)*100,7),0)/100) | J4: =IF(E4<>"OK","",IF(ROUND(F4,9)<Regeln!$B$6,Regeln!$B$7,0)) | K4: =IF(E4<>"OK","",VLOOKUP(ROUND(ROUND((G4+H4)*100,7),0)/100,Regeln!$S$3:$T$6,2,TRUE)) | L4: =IF(E4<>"OK","",ROUND(ROUND(((G4+H4)*K4)*100,7),0)/100) | M4: =IF(E4<>"OK","",ROUND(ROUND((G4+H4+I4+J4-L4)*100,7),0)/100) | N4: =IF(E4<>"OK","",ROUND(ROUND((M4*Regeln!$B$13)*100,7),0)/100) | O4: =IF(E4<>"OK","",ROUND(ROUND((M4+N4)*100,7),0)/100)
A5: A-04 | B5: Kunde A-04 | C5: 17 | D5: =IF(A5="","",COUNTIF(Raeume!$B$2:$B$46,A5)) | E5: =IF(A5="","",IF(D5=0,"FEHLER: keine Raeume",IF(SUMIF(Raeume!$B$2:$B$46,A5,Raeume!$X$2:$X$46)>0,"FEHLER: Raum fehlerhaft","OK"))) | F5: =IF(E5<>"OK","",SUMIF(Raeume!$B$2:$B$46,A5,Raeume!$Y$2:$Y$46)) | G5: =IF(E5<>"OK","",ROUND(ROUND((SUMIF(Raeume!$B$2:$B$46,A5,Raeume!$AI$2:$AI$46))*100,7),0)/100) | H5: =IF(E5<>"OK","",ROUND(ROUND((SUMIF(Raeume!$B$2:$B$46,A5,Raeume!$AK$2:$AK$46))*100,7),0)/100) | I5: =IF(E5<>"OK","",ROUND(ROUND((Regeln!$B$4+C5*2*Regeln!$B$5)*100,7),0)/100) | J5: =IF(E5<>"OK","",IF(ROUND(F5,9)<Regeln!$B$6,Regeln!$B$7,0)) | K5: =IF(E5<>"OK","",VLOOKUP(ROUND(ROUND((G5+H5)*100,7),0)/100,Regeln!$S$3:$T$6,2,TRUE)) | L5: =IF(E5<>"OK","",ROUND(ROUND(((G5+H5)*K5)*100,7),0)/100) | M5: =IF(E5<>"OK","",ROUND(ROUND((G5+H5+I5+J5-L5)*100,7),0)/100) | N5: =IF(E5<>"OK","",ROUND(ROUND((M5*Regeln!$B$13)*100,7),0)/100) | O5: =IF(E5<>"OK","",ROUND(ROUND((M5+N5)*100,7),0)/100)
A6: A-05 | B6: Kunde A-05 | C6: 20 | D6: =IF(A6="","",COUNTIF(Raeume!$B$2:$B$46,A6)) | E6: =IF(A6="","",IF(D6=0,"FEHLER: keine Raeume",IF(SUMIF(Raeume!$B$2:$B$46,A6,Raeume!$X$2:$X$46)>0,"FEHLER: Raum fehlerhaft","OK"))) | F6: =IF(E6<>"OK","",SUMIF(Raeume!$B$2:$B$46,A6,Raeume!$Y$2:$Y$46)) | G6: =IF(E6<>"OK","",ROUND(ROUND((SUMIF(Raeume!$B$2:$B$46,A6,Raeume!$AI$2:$AI$46))*100,7),0)/100) | H6: =IF(E6<>"OK","",ROUND(ROUND((SUMIF(Raeume!$B$2:$B$46,A6,Raeume!$AK$2:$AK$46))*100,7),0)/100) | I6: =IF(E6<>"OK","",ROUND(ROUND((Regeln!$B$4+C6*2*Regeln!$B$5)*100,7),0)/100) | J6: =IF(E6<>"OK","",IF(ROUND(F6,9)<Regeln!$B$6,Regeln!$B$7,0)) | K6: =IF(E6<>"OK","",VLOOKUP(ROUND(ROUND((G6+H6)*100,7),0)/100,Regeln!$S$3:$T$6,2,TRUE)) | L6: =IF(E6<>"OK","",ROUND(ROUND(((G6+H6)*K6)*100,7),0)/100) | M6: =IF(E6<>"OK","",ROUND(ROUND((G6+H6+I6+J6-L6)*100,7),0)/100) | N6: =IF(E6<>"OK","",ROUND(ROUND((M6*Regeln!$B$13)*100,7),0)/100) | O6: =IF(E6<>"OK","",ROUND(ROUND((M6+N6)*100,7),0)/100)
A7: A-06 | B7: Kunde A-06 | C7: 23 | D7: =IF(A7="","",COUNTIF(Raeume!$B$2:$B$46,A7)) | E7: =IF(A7="","",IF(D7=0,"FEHLER: keine Raeume",IF(SUMIF(Raeume!$B$2:$B$46,A7,Raeume!$X$2:$X$46)>0,"FEHLER: Raum fehlerhaft","OK"))) | F7: =IF(E7<>"OK","",SUMIF(Raeume!$B$2:$B$46,A7,Raeume!$Y$2:$Y$46)) | G7: =IF(E7<>"OK","",ROUND(ROUND((SUMIF(Raeume!$B$2:$B$46,A7,Raeume!$AI$2:$AI$46))*100,7),0)/100) | H7: =IF(E7<>"OK","",ROUND(ROUND((SUMIF(Raeume!$B$2:$B$46,A7,Raeume!$AK$2:$AK$46))*100,7),0)/100) | I7: =IF(E7<>"OK","",ROUND(ROUND((Regeln!$B$4+C7*2*Regeln!$B$5)*100,7),0)/100) | J7: =IF(E7<>"OK","",IF(ROUND(F7,9)<Regeln!$B$6,Regeln!$B$7,0)) | K7: =IF(E7<>"OK","",VLOOKUP(ROUND(ROUND((G7+H7)*100,7),0)/100,Regeln!$S$3:$T$6,2,TRUE)) | L7: =IF(E7<>"OK","",ROUND(ROUND(((G7+H7)*K7)*100,7),0)/100) | M7: =IF(E7<>"OK","",ROUND(ROUND((G7+H7+I7+J7-L7)*100,7),0)/100) | N7: =IF(E7<>"OK","",ROUND(ROUND((M7*Regeln!$B$13)*100,7),0)/100) | O7: =IF(E7<>"OK","",ROUND(ROUND((M7+N7)*100,7),0)/100)
A8: A-07 | B8: Kunde A-07 | C8: 26 | D8: =IF(A8="","",COUNTIF(Raeume!$B$2:$B$46,A8)) | E8: =IF(A8="","",IF(D8=0,"FEHLER: keine Raeume",IF(SUMIF(Raeume!$B$2:$B$46,A8,Raeume!$X$2:$X$46)>0,"FEHLER: Raum fehlerhaft","OK"))) | F8: =IF(E8<>"OK","",SUMIF(Raeume!$B$2:$B$46,A8,Raeume!$Y$2:$Y$46)) | G8: =IF(E8<>"OK","",ROUND(ROUND((SUMIF(Raeume!$B$2:$B$46,A8,Raeume!$AI$2:$AI$46))*100,7),0)/100) | H8: =IF(E8<>"OK","",ROUND(ROUND((SUMIF(Raeume!$B$2:$B$46,A8,Raeume!$AK$2:$AK$46))*100,7),0)/100) | I8: =IF(E8<>"OK","",ROUND(ROUND((Regeln!$B$4+C8*2*Regeln!$B$5)*100,7),0)/100) | J8: =IF(E8<>"OK","",IF(ROUND(F8,9)<Regeln!$B$6,Regeln!$B$7,0)) | K8: =IF(E8<>"OK","",VLOOKUP(ROUND(ROUND((G8+H8)*100,7),0)/100,Regeln!$S$3:$T$6,2,TRUE)) | L8: =IF(E8<>"OK","",ROUND(ROUND(((G8+H8)*K8)*100,7),0)/100) | M8: =IF(E8<>"OK","",ROUND(ROUND((G8+H8+I8+J8-L8)*100,7),0)/100) | N8: =IF(E8<>"OK","",ROUND(ROUND((M8*Regeln!$B$13)*100,7),0)/100) | O8: =IF(E8<>"OK","",ROUND(ROUND((M8+N8)*100,7),0)/100)
A9: A-08 | B9: Kunde A-08 | C9: 29 | D9: =IF(A9="","",COUNTIF(Raeume!$B$2:$B$46,A9)) | E9: =IF(A9="","",IF(D9=0,"FEHLER: keine Raeume",IF(SUMIF(Raeume!$B$2:$B$46,A9,Raeume!$X$2:$X$46)>0,"FEHLER: Raum fehlerhaft","OK"))) | F9: =IF(E9<>"OK","",SUMIF(Raeume!$B$2:$B$46,A9,Raeume!$Y$2:$Y$46)) | G9: =IF(E9<>"OK","",ROUND(ROUND((SUMIF(Raeume!$B$2:$B$46,A9,Raeume!$AI$2:$AI$46))*100,7),0)/100) | H9: =IF(E9<>"OK","",ROUND(ROUND((SUMIF(Raeume!$B$2:$B$46,A9,Raeume!$AK$2:$AK$46))*100,7),0)/100) | I9: =IF(E9<>"OK","",ROUND(ROUND((Regeln!$B$4+C9*2*Regeln!$B$5)*100,7),0)/100) | J9: =IF(E9<>"OK","",IF(ROUND(F9,9)<Regeln!$B$6,Regeln!$B$7,0)) | K9: =IF(E9<>"OK","",VLOOKUP(ROUND(ROUND((G9+H9)*100,7),0)/100,Regeln!$S$3:$T$6,2,TRUE)) | L9: =IF(E9<>"OK","",ROUND(ROUND(((G9+H9)*K9)*100,7),0)/100) | M9: =IF(E9<>"OK","",ROUND(ROUND((G9+H9+I9+J9-L9)*100,7),0)/100) | N9: =IF(E9<>"OK","",ROUND(ROUND((M9*Regeln!$B$13)*100,7),0)/100) | O9: =IF(E9<>"OK","",ROUND(ROUND((M9+N9)*100,7),0)/100)
A10: A-09 | B10: Kunde A-09 | C10: 32 | D10: =IF(A10="","",COUNTIF(Raeume!$B$2:$B$46,A10)) | E10: =IF(A10="","",IF(D10=0,"FEHLER: keine Raeume",IF(SUMIF(Raeume!$B$2:$B$46,A10,Raeume!$X$2:$X$46)>0,"FEHLER: Raum fehlerhaft","OK"))) | F10: =IF(E10<>"OK","",SUMIF(Raeume!$B$2:$B$46,A10,Raeume!$Y$2:$Y$46)) | G10: =IF(E10<>"OK","",ROUND(ROUND((SUMIF(Raeume!$B$2:$B$46,A10,Raeume!$AI$2:$AI$46))*100,7),0)/100) | H10: =IF(E10<>"OK","",ROUND(ROUND((SUMIF(Raeume!$B$2:$B$46,A10,Raeume!$AK$2:$AK$46))*100,7),0)/100) | I10: =IF(E10<>"OK","",ROUND(ROUND((Regeln!$B$4+C10*2*Regeln!$B$5)*100,7),0)/100) | J10: =IF(E10<>"OK","",IF(ROUND(F10,9)<Regeln!$B$6,Regeln!$B$7,0)) | K10: =IF(E10<>"OK","",VLOOKUP(ROUND(ROUND((G10+H10)*100,7),0)/100,Regeln!$S$3:$T$6,2,TRUE)) | L10: =IF(E10<>"OK","",ROUND(ROUND(((G10+H10)*K10)*100,7),0)/100) | M10: =IF(E10<>"OK","",ROUND(ROUND((G10+H10+I10+J10-L10)*100,7),0)/100) | N10: =IF(E10<>"OK","",ROUND(ROUND((M10*Regeln!$B$13)*100,7),0)/100) | O10: =IF(E10<>"OK","",ROUND(ROUND((M10+N10)*100,7),0)/100)
A11: A-10 | B11: Kunde A-10 | C11: 35 | D11: =IF(A11="","",COUNTIF(Raeume!$B$2:$B$46,A11)) | E11: =IF(A11="","",IF(D11=0,"FEHLER: keine Raeume",IF(SUMIF(Raeume!$B$2:$B$46,A11,Raeume!$X$2:$X$46)>0,"FEHLER: Raum fehlerhaft","OK"))) | F11: =IF(E11<>"OK","",SUMIF(Raeume!$B$2:$B$46,A11,Raeume!$Y$2:$Y$46)) | G11: =IF(E11<>"OK","",ROUND(ROUND((SUMIF(Raeume!$B$2:$B$46,A11,Raeume!$AI$2:$AI$46))*100,7),0)/100) | H11: =IF(E11<>"OK","",ROUND(ROUND((SUMIF(Raeume!$B$2:$B$46,A11,Raeume!$AK$2:$AK$46))*100,7),0)/100) | I11: =IF(E11<>"OK","",ROUND(ROUND((Regeln!$B$4+C11*2*Regeln!$B$5)*100,7),0)/100) | J11: =IF(E11<>"OK","",IF(ROUND(F11,9)<Regeln!$B$6,Regeln!$B$7,0)) | K11: =IF(E11<>"OK","",VLOOKUP(ROUND(ROUND((G11+H11)*100,7),0)/100,Regeln!$S$3:$T$6,2,TRUE)) | L11: =IF(E11<>"OK","",ROUND(ROUND(((G11+H11)*K11)*100,7),0)/100) | M11: =IF(E11<>"OK","",ROUND(ROUND((G11+H11+I11+J11-L11)*100,7),0)/100) | N11: =IF(E11<>"OK","",ROUND(ROUND((M11*Regeln!$B$13)*100,7),0)/100) | O11: =IF(E11<>"OK","",ROUND(ROUND((M11+N11)*100,7),0)/100)
A12: A-11 | B12: Kunde A-11 | C12: 38 | D12: =IF(A12="","",COUNTIF(Raeume!$B$2:$B$46,A12)) | E12: =IF(A12="","",IF(D12=0,"FEHLER: keine Raeume",IF(SUMIF(Raeume!$B$2:$B$46,A12,Raeume!$X$2:$X$46)>0,"FEHLER: Raum fehlerhaft","OK"))) | F12: =IF(E12<>"OK","",SUMIF(Raeume!$B$2:$B$46,A12,Raeume!$Y$2:$Y$46)) | G12: =IF(E12<>"OK","",ROUND(ROUND((SUMIF(Raeume!$B$2:$B$46,A12,Raeume!$AI$2:$AI$46))*100,7),0)/100) | H12: =IF(E12<>"OK","",ROUND(ROUND((SUMIF(Raeume!$B$2:$B$46,A12,Raeume!$AK$2:$AK$46))*100,7),0)/100) | I12: =IF(E12<>"OK","",ROUND(ROUND((Regeln!$B$4+C12*2*Regeln!$B$5)*100,7),0)/100) | J12: =IF(E12<>"OK","",IF(ROUND(F12,9)<Regeln!$B$6,Regeln!$B$7,0)) | K12: =IF(E12<>"OK","",VLOOKUP(ROUND(ROUND((G12+H12)*100,7),0)/100,Regeln!$S$3:$T$6,2,TRUE)) | L12: =IF(E12<>"OK","",ROUND(ROUND(((G12+H12)*K12)*100,7),0)/100) | M12: =IF(E12<>"OK","",ROUND(ROUND((G12+H12+I12+J12-L12)*100,7),0)/100) | N12: =IF(E12<>"OK","",ROUND(ROUND((M12*Regeln!$B$13)*100,7),0)/100) | O12: =IF(E12<>"OK","",ROUND(ROUND((M12+N12)*100,7),0)/100)
A13: A-12 | B13: Kunde A-12 | C13: 41 | D13: =IF(A13="","",COUNTIF(Raeume!$B$2:$B$46,A13)) | E13: =IF(A13="","",IF(D13=0,"FEHLER: keine Raeume",IF(SUMIF(Raeume!$B$2:$B$46,A13,Raeume!$X$2:$X$46)>0,"FEHLER: Raum fehlerhaft","OK"))) | F13: =IF(E13<>"OK","",SUMIF(Raeume!$B$2:$B$46,A13,Raeume!$Y$2:$Y$46)) | G13: =IF(E13<>"OK","",ROUND(ROUND((SUMIF(Raeume!$B$2:$B$46,A13,Raeume!$AI$2:$AI$46))*100,7),0)/100) | H13: =IF(E13<>"OK","",ROUND(ROUND((SUMIF(Raeume!$B$2:$B$46,A13,Raeume!$AK$2:$AK$46))*100,7),0)/100) | I13: =IF(E13<>"OK","",ROUND(ROUND((Regeln!$B$4+C13*2*Regeln!$B$5)*100,7),0)/100) | J13: =IF(E13<>"OK","",IF(ROUND(F13,9)<Regeln!$B$6,Regeln!$B$7,0)) | K13: =IF(E13<>"OK","",VLOOKUP(ROUND(ROUND((G13+H13)*100,7),0)/100,Regeln!$S$3:$T$6,2,TRUE)) | L13: =IF(E13<>"OK","",ROUND(ROUND(((G13+H13)*K13)*100,7),0)/100) | M13: =IF(E13<>"OK","",ROUND(ROUND((G13+H13+I13+J13-L13)*100,7),0)/100) | N13: =IF(E13<>"OK","",ROUND(ROUND((M13*Regeln!$B$13)*100,7),0)/100) | O13: =IF(E13<>"OK","",ROUND(ROUND((M13+N13)*100,7),0)/100)
... A21: A-20 | B21: Kunde A-20 | C21: 65 | D21: =IF(A21="","",COUNTIF(Raeume!$B$2:$B$46,A21)) | E21: =IF(A21="","",IF(D21=0,"FEHLER: keine Raeume",IF(SUMIF(Raeume!$B$2:$B$46,A21,Raeume!$X$2:$X$46)>0,"FEHLER: Raum fehlerhaft","OK"))) | F21: =IF(E21<>"OK","",SUMIF(Raeume!$B$2:$B$46,A21,Raeume!$Y$2:$Y$46)) | G21: =IF(E21<>"OK","",ROUND(ROUND((SUMIF(Raeume!$B$2:$B$46,A21,Raeume!$AI$2:$AI$46))*100,7),0)/100) | H21: =IF(E21<>"OK","",ROUND(ROUND((SUMIF(Raeume!$B$2:$B$46,A21,Raeume!$AK$2:$AK$46))*100,7),0)/100) | I21: =IF(E21<>"OK","",ROUND(ROUND((Regeln!$B$4+C21*2*Regeln!$B$5)*100,7),0)/100) | J21: =IF(E21<>"OK","",IF(ROUND(F21,9)<Regeln!$B$6,Regeln!$B$7,0)) | K21: =IF(E21<>"OK","",VLOOKUP(ROUND(ROUND((G21+H21)*100,7),0)/100,Regeln!$S$3:$T$6,2,TRUE)) | L21: =IF(E21<>"OK","",ROUND(ROUND(((G21+H21)*K21)*100,7),0)/100) | M21: =IF(E21<>"OK","",ROUND(ROUND((G21+H21+I21+J21-L21)*100,7),0)/100) | N21: =IF(E21<>"OK","",ROUND(ROUND((M21*Regeln!$B$13)*100,7),0)/100) | O21: =IF(E21<>"OK","",ROUND(ROUND((M21+N21)*100,7),0)/100)
D22: =IF(A22="","",COUNTIF(Raeume!$B$2:$B$46,A22)) | E22: =IF(A22="","",IF(D22=0,"FEHLER: keine Raeume",IF(SUMIF(Raeume!$B$2:$B$46,A22,Raeume!$X$2:$X$46)>0,"FEHLER: Raum fehlerhaft","OK"))) | F22: =IF(E22<>"OK","",SUMIF(Raeume!$B$2:$B$46,A22,Raeume!$Y$2:$Y$46)) | G22: =IF(E22<>"OK","",ROUND(ROUND((SUMIF(Raeume!$B$2:$B$46,A22,Raeume!$AI$2:$AI$46))*100,7),0)/100) | H22: =IF(E22<>"OK","",ROUND(ROUND((SUMIF(Raeume!$B$2:$B$46,A22,Raeume!$AK$2:$AK$46))*100,7),0)/100) | I22: =IF(E22<>"OK","",ROUND(ROUND((Regeln!$B$4+C22*2*Regeln!$B$5)*100,7),0)/100) | J22: =IF(E22<>"OK","",IF(ROUND(F22,9)<Regeln!$B$6,Regeln!$B$7,0)) | K22: =IF(E22<>"OK","",VLOOKUP(ROUND(ROUND((G22+H22)*100,7),0)/100,Regeln!$S$3:$T$6,2,TRUE)) | L22: =IF(E22<>"OK","",ROUND(ROUND(((G22+H22)*K22)*100,7),0)/100) | M22: =IF(E22<>"OK","",ROUND(ROUND((G22+H22+I22+J22-L22)*100,7),0)/100) | N22: =IF(E22<>"OK","",ROUND(ROUND((M22*Regeln!$B$13)*100,7),0)/100) | O22: =IF(E22<>"OK","",ROUND(ROUND((M22+N22)*100,7),0)/100)
D23: =IF(A23="","",COUNTIF(Raeume!$B$2:$B$46,A23)) | E23: =IF(A23="","",IF(D23=0,"FEHLER: keine Raeume",IF(SUMIF(Raeume!$B$2:$B$46,A23,Raeume!$X$2:$X$46)>0,"FEHLER: Raum fehlerhaft","OK"))) | F23: =IF(E23<>"OK","",SUMIF(Raeume!$B$2:$B$46,A23,Raeume!$Y$2:$Y$46)) | G23: =IF(E23<>"OK","",ROUND(ROUND((SUMIF(Raeume!$B$2:$B$46,A23,Raeume!$AI$2:$AI$46))*100,7),0)/100) | H23: =IF(E23<>"OK","",ROUND(ROUND((SUMIF(Raeume!$B$2:$B$46,A23,Raeume!$AK$2:$AK$46))*100,7),0)/100) | I23: =IF(E23<>"OK","",ROUND(ROUND((Regeln!$B$4+C23*2*Regeln!$B$5)*100,7),0)/100) | J23: =IF(E23<>"OK","",IF(ROUND(F23,9)<Regeln!$B$6,Regeln!$B$7,0)) | K23: =IF(E23<>"OK","",VLOOKUP(ROUND(ROUND((G23+H23)*100,7),0)/100,Regeln!$S$3:$T$6,2,TRUE)) | L23: =IF(E23<>"OK","",ROUND(ROUND(((G23+H23)*K23)*100,7),0)/100) | M23: =IF(E23<>"OK","",ROUND(ROUND((G23+H23+I23+J23-L23)*100,7),0)/100) | N23: =IF(E23<>"OK","",ROUND(ROUND((M23*Regeln!$B$13)*100,7),0)/100) | O23: =IF(E23<>"OK","",ROUND(ROUND((M23+N23)*100,7),0)/100)
D24: =IF(A24="","",COUNTIF(Raeume!$B$2:$B$46,A24)) | E24: =IF(A24="","",IF(D24=0,"FEHLER: keine Raeume",IF(SUMIF(Raeume!$B$2:$B$46,A24,Raeume!$X$2:$X$46)>0,"FEHLER: Raum fehlerhaft","OK"))) | F24: =IF(E24<>"OK","",SUMIF(Raeume!$B$2:$B$46,A24,Raeume!$Y$2:$Y$46)) | G24: =IF(E24<>"OK","",ROUND(ROUND((SUMIF(Raeume!$B$2:$B$46,A24,Raeume!$AI$2:$AI$46))*100,7),0)/100) | H24: =IF(E24<>"OK","",ROUND(ROUND((SUMIF(Raeume!$B$2:$B$46,A24,Raeume!$AK$2:$AK$46))*100,7),0)/100) | I24: =IF(E24<>"OK","",ROUND(ROUND((Regeln!$B$4+C24*2*Regeln!$B$5)*100,7),0)/100) | J24: =IF(E24<>"OK","",IF(ROUND(F24,9)<Regeln!$B$6,Regeln!$B$7,0)) | K24: =IF(E24<>"OK","",VLOOKUP(ROUND(ROUND((G24+H24)*100,7),0)/100,Regeln!$S$3:$T$6,2,TRUE)) | L24: =IF(E24<>"OK","",ROUND(ROUND(((G24+H24)*K24)*100,7),0)/100) | M24: =IF(E24<>"OK","",ROUND(ROUND((G24+H24+I24+J24-L24)*100,7),0)/100) | N24: =IF(E24<>"OK","",ROUND(ROUND((M24*Regeln!$B$13)*100,7),0)/100) | O24: =IF(E24<>"OK","",ROUND(ROUND((M24+N24)*100,7),0)/100)
D25: =IF(A25="","",COUNTIF(Raeume!$B$2:$B$46,A25)) | E25: =IF(A25="","",IF(D25=0,"FEHLER: keine Raeume",IF(SUMIF(Raeume!$B$2:$B$46,A25,Raeume!$X$2:$X$46)>0,"FEHLER: Raum fehlerhaft","OK"))) | F25: =IF(E25<>"OK","",SUMIF(Raeume!$B$2:$B$46,A25,Raeume!$Y$2:$Y$46)) | G25: =IF(E25<>"OK","",ROUND(ROUND((SUMIF(Raeume!$B$2:$B$46,A25,Raeume!$AI$2:$AI$46))*100,7),0)/100) | H25: =IF(E25<>"OK","",ROUND(ROUND((SUMIF(Raeume!$B$2:$B$46,A25,Raeume!$AK$2:$AK$46))*100,7),0)/100) | I25: =IF(E25<>"OK","",ROUND(ROUND((Regeln!$B$4+C25*2*Regeln!$B$5)*100,7),0)/100) | J25: =IF(E25<>"OK","",IF(ROUND(F25,9)<Regeln!$B$6,Regeln!$B$7,0)) | K25: =IF(E25<>"OK","",VLOOKUP(ROUND(ROUND((G25+H25)*100,7),0)/100,Regeln!$S$3:$T$6,2,TRUE)) | L25: =IF(E25<>"OK","",ROUND(ROUND(((G25+H25)*K25)*100,7),0)/100) | M25: =IF(E25<>"OK","",ROUND(ROUND((G25+H25+I25+J25-L25)*100,7),0)/100) | N25: =IF(E25<>"OK","",ROUND(ROUND((M25*Regeln!$B$13)*100,7),0)/100) | O25: =IF(E25<>"OK","",ROUND(ROUND((M25+N25)*100,7),0)/100)
D26: =IF(A26="","",COUNTIF(Raeume!$B$2:$B$46,A26)) | E26: =IF(A26="","",IF(D26=0,"FEHLER: keine Raeume",IF(SUMIF(Raeume!$B$2:$B$46,A26,Raeume!$X$2:$X$46)>0,"FEHLER: Raum fehlerhaft","OK"))) | F26: =IF(E26<>"OK","",SUMIF(Raeume!$B$2:$B$46,A26,Raeume!$Y$2:$Y$46)) | G26: =IF(E26<>"OK","",ROUND(ROUND((SUMIF(Raeume!$B$2:$B$46,A26,Raeume!$AI$2:$AI$46))*100,7),0)/100) | H26: =IF(E26<>"OK","",ROUND(ROUND((SUMIF(Raeume!$B$2:$B$46,A26,Raeume!$AK$2:$AK$46))*100,7),0)/100) | I26: =IF(E26<>"OK","",ROUND(ROUND((Regeln!$B$4+C26*2*Regeln!$B$5)*100,7),0)/100) | J26: =IF(E26<>"OK","",IF(ROUND(F26,9)<Regeln!$B$6,Regeln!$B$7,0)) | K26: =IF(E26<>"OK","",VLOOKUP(ROUND(ROUND((G26+H26)*100,7),0)/100,Regeln!$S$3:$T$6,2,TRUE)) | L26: =IF(E26<>"OK","",ROUND(ROUND(((G26+H26)*K26)*100,7),0)/100) | M26: =IF(E26<>"OK","",ROUND(ROUND((G26+H26+I26+J26-L26)*100,7),0)/100) | N26: =IF(E26<>"OK","",ROUND(ROUND((M26*Regeln!$B$13)*100,7),0)/100) | O26: =IF(E26<>"OK","",ROUND(ROUND((M26+N26)*100,7),0)/100)
D27: =IF(A27="","",COUNTIF(Raeume!$B$2:$B$46,A27)) | E27: =IF(A27="","",IF(D27=0,"FEHLER: keine Raeume",IF(SUMIF(Raeume!$B$2:$B$46,A27,Raeume!$X$2:$X$46)>0,"FEHLER: Raum fehlerhaft","OK"))) | F27: =IF(E27<>"OK","",SUMIF(Raeume!$B$2:$B$46,A27,Raeume!$Y$2:$Y$46)) | G27: =IF(E27<>"OK","",ROUND(ROUND((SUMIF(Raeume!$B$2:$B$46,A27,Raeume!$AI$2:$AI$46))*100,7),0)/100) | H27: =IF(E27<>"OK","",ROUND(ROUND((SUMIF(Raeume!$B$2:$B$46,A27,Raeume!$AK$2:$AK$46))*100,7),0)/100) | I27: =IF(E27<>"OK","",ROUND(ROUND((Regeln!$B$4+C27*2*Regeln!$B$5)*100,7),0)/100) | J27: =IF(E27<>"OK","",IF(ROUND(F27,9)<Regeln!$B$6,Regeln!$B$7,0)) | K27: =IF(E27<>"OK","",VLOOKUP(ROUND(ROUND((G27+H27)*100,7),0)/100,Regeln!$S$3:$T$6,2,TRUE)) | L27: =IF(E27<>"OK","",ROUND(ROUND(((G27+H27)*K27)*100,7),0)/100) | M27: =IF(E27<>"OK","",ROUND(ROUND((G27+H27+I27+J27-L27)*100,7),0)/100) | N27: =IF(E27<>"OK","",ROUND(ROUND((M27*Regeln!$B$13)*100,7),0)/100) | O27: =IF(E27<>"OK","",ROUND(ROUND((M27+N27)*100,7),0)/100)
D28: =IF(A28="","",COUNTIF(Raeume!$B$2:$B$46,A28)) | E28: =IF(A28="","",IF(D28=0,"FEHLER: keine Raeume",IF(SUMIF(Raeume!$B$2:$B$46,A28,Raeume!$X$2:$X$46)>0,"FEHLER: Raum fehlerhaft","OK"))) | F28: =IF(E28<>"OK","",SUMIF(Raeume!$B$2:$B$46,A28,Raeume!$Y$2:$Y$46)) | G28: =IF(E28<>"OK","",ROUND(ROUND((SUMIF(Raeume!$B$2:$B$46,A28,Raeume!$AI$2:$AI$46))*100,7),0)/100) | H28: =IF(E28<>"OK","",ROUND(ROUND((SUMIF(Raeume!$B$2:$B$46,A28,Raeume!$AK$2:$AK$46))*100,7),0)/100) | I28: =IF(E28<>"OK","",ROUND(ROUND((Regeln!$B$4+C28*2*Regeln!$B$5)*100,7),0)/100) | J28: =IF(E28<>"OK","",IF(ROUND(F28,9)<Regeln!$B$6,Regeln!$B$7,0)) | K28: =IF(E28<>"OK","",VLOOKUP(ROUND(ROUND((G28+H28)*100,7),0)/100,Regeln!$S$3:$T$6,2,TRUE)) | L28: =IF(E28<>"OK","",ROUND(ROUND(((G28+H28)*K28)*100,7),0)/100) | M28: =IF(E28<>"OK","",ROUND(ROUND((G28+H28+I28+J28-L28)*100,7),0)/100) | N28: =IF(E28<>"OK","",ROUND(ROUND((M28*Regeln!$B$13)*100,7),0)/100) | O28: =IF(E28<>"OK","",ROUND(ROUND((M28+N28)*100,7),0)/100)
D29: =IF(A29="","",COUNTIF(Raeume!$B$2:$B$46,A29)) | E29: =IF(A29="","",IF(D29=0,"FEHLER: keine Raeume",IF(SUMIF(Raeume!$B$2:$B$46,A29,Raeume!$X$2:$X$46)>0,"FEHLER: Raum fehlerhaft","OK"))) | F29: =IF(E29<>"OK","",SUMIF(Raeume!$B$2:$B$46,A29,Raeume!$Y$2:$Y$46)) | G29: =IF(E29<>"OK","",ROUND(ROUND((SUMIF(Raeume!$B$2:$B$46,A29,Raeume!$AI$2:$AI$46))*100,7),0)/100) | H29: =IF(E29<>"OK","",ROUND(ROUND((SUMIF(Raeume!$B$2:$B$46,A29,Raeume!$AK$2:$AK$46))*100,7),0)/100) | I29: =IF(E29<>"OK","",ROUND(ROUND((Regeln!$B$4+C29*2*Regeln!$B$5)*100,7),0)/100) | J29: =IF(E29<>"OK","",IF(ROUND(F29,9)<Regeln!$B$6,Regeln!$B$7,0)) | K29: =IF(E29<>"OK","",VLOOKUP(ROUND(ROUND((G29+H29)*100,7),0)/100,Regeln!$S$3:$T$6,2,TRUE)) | L29: =IF(E29<>"OK","",ROUND(ROUND(((G29+H29)*K29)*100,7),0)/100) | M29: =IF(E29<>"OK","",ROUND(ROUND((G29+H29+I29+J29-L29)*100,7),0)/100) | N29: =IF(E29<>"OK","",ROUND(ROUND((M29*Regeln!$B$13)*100,7),0)/100) | O29: =IF(E29<>"OK","",ROUND(ROUND((M29+N29)*100,7),0)/100)
D30: =IF(A30="","",COUNTIF(Raeume!$B$2:$B$46,A30)) | E30: =IF(A30="","",IF(D30=0,"FEHLER: keine Raeume",IF(SUMIF(Raeume!$B$2:$B$46,A30,Raeume!$X$2:$X$46)>0,"FEHLER: Raum fehlerhaft","OK"))) | F30: =IF(E30<>"OK","",SUMIF(Raeume!$B$2:$B$46,A30,Raeume!$Y$2:$Y$46)) | G30: =IF(E30<>"OK","",ROUND(ROUND((SUMIF(Raeume!$B$2:$B$46,A30,Raeume!$AI$2:$AI$46))*100,7),0)/100) | H30: =IF(E30<>"OK","",ROUND(ROUND((SUMIF(Raeume!$B$2:$B$46,A30,Raeume!$AK$2:$AK$46))*100,7),0)/100) | I30: =IF(E30<>"OK","",ROUND(ROUND((Regeln!$B$4+C30*2*Regeln!$B$5)*100,7),0)/100) | J30: =IF(E30<>"OK","",IF(ROUND(F30,9)<Regeln!$B$6,Regeln!$B$7,0)) | K30: =IF(E30<>"OK","",VLOOKUP(ROUND(ROUND((G30+H30)*100,7),0)/100,Regeln!$S$3:$T$6,2,TRUE)) | L30: =IF(E30<>"OK","",ROUND(ROUND(((G30+H30)*K30)*100,7),0)/100) | M30: =IF(E30<>"OK","",ROUND(ROUND((G30+H30+I30+J30-L30)*100,7),0)/100) | N30: =IF(E30<>"OK","",ROUND(ROUND((M30*Regeln!$B$13)*100,7),0)/100) | O30: =IF(E30<>"OK","",ROUND(ROUND((M30+N30)*100,7),0)/100)
D31: =IF(A31="","",COUNTIF(Raeume!$B$2:$B$46,A31)) | E31: =IF(A31="","",IF(D31=0,"FEHLER: keine Raeume",IF(SUMIF(Raeume!$B$2:$B$46,A31,Raeume!$X$2:$X$46)>0,"FEHLER: Raum fehlerhaft","OK"))) | F31: =IF(E31<>"OK","",SUMIF(Raeume!$B$2:$B$46,A31,Raeume!$Y$2:$Y$46)) | G31: =IF(E31<>"OK","",ROUND(ROUND((SUMIF(Raeume!$B$2:$B$46,A31,Raeume!$AI$2:$AI$46))*100,7),0)/100) | H31: =IF(E31<>"OK","",ROUND(ROUND((SUMIF(Raeume!$B$2:$B$46,A31,Raeume!$AK$2:$AK$46))*100,7),0)/100) | I31: =IF(E31<>"OK","",ROUND(ROUND((Regeln!$B$4+C31*2*Regeln!$B$5)*100,7),0)/100) | J31: =IF(E31<>"OK","",IF(ROUND(F31,9)<Regeln!$B$6,Regeln!$B$7,0)) | K31: =IF(E31<>"OK","",VLOOKUP(ROUND(ROUND((G31+H31)*100,7),0)/100,Regeln!$S$3:$T$6,2,TRUE)) | L31: =IF(E31<>"OK","",ROUND(ROUND(((G31+H31)*K31)*100,7),0)/100) | M31: =IF(E31<>"OK","",ROUND(ROUND((G31+H31+I31+J31-L31)*100,7),0)/100) | N31: =IF(E31<>"OK","",ROUND(ROUND((M31*Regeln!$B$13)*100,7),0)/100) | O31: =IF(E31<>"OK","",ROUND(ROUND((M31+N31)*100,7),0)/100)
